BEGIN:VCALENDAR
VERSION:2.0
PRODID:-//Trinity United Methodist Church - ECPv6.11.2//NONSGML v1.0//EN
CALSCALE:GREGORIAN
METHOD:PUBLISH
X-ORIGINAL-URL:https://trinitywhitesboro.com
X-WR-CALDESC:Events for Trinity United Methodist Church
REFRESH-INTERVAL;VALUE=DURATION:PT1H
X-Robots-Tag:noindex
X-PUBLISHED-TTL:PT1H
BEGIN:VTIMEZONE
TZID:UTC
BEGIN:STANDARD
TZOFFSETFROM:+0000
TZOFFSETTO:+0000
TZNAME:UTC
DTSTART:20240101T000000
END:STANDARD
END:VTIMEZONE
BEGIN:VEVENT
DTSTART;TZID=UTC:20240813T170000
DTEND;TZID=UTC:20240813T180000
DTSTAMP:20260421T135839
CREATED:20240806T150607Z
LAST-MODIFIED:20240806T150607Z
UID:3283-1723568400-1723572000@trinitywhitesboro.com
SUMMARY:Walking in the Word - Breeze's Restaurant
DESCRIPTION:215 Leland Ave. 5pm We will meet near the steps of the steps of the restaurant on the side that faces the food truck event. If you wish to stay and eat after the walk please bring money for food. If you just wish to join us for the food fellowship and not walk please meet us at 5:45 by the food truck event.
URL:https://trinitywhitesboro.com/event/walking-in-the-word-breezes-restaurant/
LOCATION:NY
END:VEVENT
BEGIN:VEVENT
DTSTART;TZID=UTC:20240825T100000
DTEND;TZID=UTC:20240825T110000
DTSTAMP:20260421T135839
CREATED:20240806T150718Z
LAST-MODIFIED:20240806T150718Z
UID:3285-1724580000-1724583600@trinitywhitesboro.com
SUMMARY:Worship in the Park - Whitestown Park
DESCRIPTION:Large pavilion – 10 am service
URL:https://trinitywhitesboro.com/event/worship-in-the-park-whitestown-park/
LOCATION:NY
END:VEVENT
END:VCALENDAR