BEGIN:VCALENDAR
VERSION:2.0
PRODID:-//Trinity United Methodist Church - ECPv6.11.2//NONSGML v1.0//EN
CALSCALE:GREGORIAN
METHOD:PUBLISH
X-WR-CALNAME:Trinity United Methodist Church
X-ORIGINAL-URL:https://trinitywhitesboro.com
X-WR-CALDESC:Events for Trinity United Methodist Church
REFRESH-INTERVAL;VALUE=DURATION:PT1H
X-Robots-Tag:noindex
X-PUBLISHED-TTL:PT1H
BEGIN:VTIMEZONE
TZID:UTC
BEGIN:STANDARD
TZOFFSETFROM:+0000
TZOFFSETTO:+0000
TZNAME:UTC
DTSTART:20240101T000000
END:STANDARD
END:VTIMEZONE
BEGIN:VEVENT
DTSTART;TZID=UTC:20240502T180000
DTEND;TZID=UTC:20240502T190000
DTSTAMP:20260421T180318
CREATED:20240427T154717Z
LAST-MODIFIED:20240427T154717Z
UID:3241-1714672800-1714676400@trinitywhitesboro.com
SUMMARY:Walking In The Word
DESCRIPTION:Sherrill Brook Park in New Hartford Meet in the Parking Lot by the Playground
URL:https://trinitywhitesboro.com/event/walking-in-the-word-5/
LOCATION:Sherrillbrook Park\, Sherrillbrook Park\, New Hartford\, NY\, 13413\, United States
END:VEVENT
BEGIN:VEVENT
DTSTART;TZID=UTC:20240505T100000
DTEND;TZID=UTC:20240505T110000
DTSTAMP:20260421T180318
CREATED:20240427T154758Z
LAST-MODIFIED:20240427T154821Z
UID:3243-1714903200-1714906800@trinitywhitesboro.com
SUMMARY:Communion
DESCRIPTION:
URL:https://trinitywhitesboro.com/event/communion-3/
LOCATION:Trinity UMC\, 8595 Westmorland Rd\, Whitesboro\, NY\, 13492\, United States
CATEGORIES:Events at Trinity
END:VEVENT
BEGIN:VEVENT
DTSTART;TZID=UTC:20240523T110000
DTEND;TZID=UTC:20240523T120000
DTSTAMP:20260421T180318
CREATED:20240529T151013Z
LAST-MODIFIED:20240529T151013Z
UID:3258-1716462000-1716465600@trinitywhitesboro.com
SUMMARY:Pot Luck
DESCRIPTION:After Worship. Celebrate our GRADUATES!!
URL:https://trinitywhitesboro.com/event/pot-luck/
LOCATION:NY
END:VEVENT
END:VCALENDAR