BEGIN:VCALENDAR
VERSION:2.0
PRODID:-//Trinity United Methodist Church - ECPv6.11.2//NONSGML v1.0//EN
CALSCALE:GREGORIAN
METHOD:PUBLISH
X-WR-CALNAME:Trinity United Methodist Church
X-ORIGINAL-URL:https://trinitywhitesboro.com
X-WR-CALDESC:Events for Trinity United Methodist Church
REFRESH-INTERVAL;VALUE=DURATION:PT1H
X-Robots-Tag:noindex
X-PUBLISHED-TTL:PT1H
BEGIN:VTIMEZONE
TZID:UTC
BEGIN:STANDARD
TZOFFSETFROM:+0000
TZOFFSETTO:+0000
TZNAME:UTC
DTSTART:20230101T000000
END:STANDARD
END:VTIMEZONE
BEGIN:VEVENT
DTSTART;TZID=UTC:20231204T180000
DTEND;TZID=UTC:20231204T200000
DTSTAMP:20260422T012835
CREATED:20231130T164053Z
LAST-MODIFIED:20231130T164053Z
UID:3136-1701712800-1701720000@trinitywhitesboro.com
SUMMARY:Church Leadership Board Meeting 6-8pm
DESCRIPTION:
URL:https://trinitywhitesboro.com/event/church-leadership-board-meeting-6-8pm/
LOCATION:Trinity UMC\, 8595 Westmorland Rd\, Whitesboro\, NY\, 13492\, United States
END:VEVENT
BEGIN:VEVENT
DTSTART;TZID=UTC:20231205T190000
DTEND;TZID=UTC:20231205T200000
DTSTAMP:20260422T012835
CREATED:20231130T164204Z
LAST-MODIFIED:20231130T164204Z
UID:3138-1701802800-1701806400@trinitywhitesboro.com
SUMMARY:Advent Study
DESCRIPTION:Tuesdays 7-8 pm November 28 – December 19 (4 weeks) Led by Pastor Abigail
URL:https://trinitywhitesboro.com/event/advent-study/
LOCATION:Trinity UMC\, 8595 Westmorland Rd\, Whitesboro\, NY\, 13492\, United States
CATEGORIES:Events at Trinity
END:VEVENT
BEGIN:VEVENT
DTSTART;TZID=UTC:20231212T180000
DTEND;TZID=UTC:20231212T200000
DTSTAMP:20260422T012835
CREATED:20231130T164338Z
LAST-MODIFIED:20231130T164338Z
UID:3140-1702404000-1702411200@trinitywhitesboro.com
SUMMARY:Karaoke Night at Pinz 6-8pm
DESCRIPTION:Karaoke Night at Pinz at Sangertown. Charity and Schuyler’s Birthday!
URL:https://trinitywhitesboro.com/event/karaoke-night-at-pinz-6-8pm/
LOCATION:NY
END:VEVENT
BEGIN:VEVENT
DTSTART;TZID=UTC:20231216T110000
DTEND;TZID=UTC:20231216T120000
DTSTAMP:20260422T012835
CREATED:20231130T164511Z
LAST-MODIFIED:20231130T164511Z
UID:3142-1702724400-1702728000@trinitywhitesboro.com
SUMMARY:Walking in the Word - T.R. Proctor Park
DESCRIPTION:Walking in the Word – 11am @ T.R. Proctor Park 1254-1260 Culver Ave\, Utica. We will meet by the playground\, dress warm and be prepared to sing some Christmas carol. Also\, Christmas cookies and dog biscuits will be provided.
URL:https://trinitywhitesboro.com/event/walking-in-the-word-t-r-proctor-park/
LOCATION:NY
END:VEVENT
BEGIN:VEVENT
DTSTART;TZID=UTC:20231224T160000
DTEND;TZID=UTC:20231224T170000
DTSTAMP:20260422T012835
CREATED:20231130T164732Z
LAST-MODIFIED:20231130T164732Z
UID:3146-1703433600-1703437200@trinitywhitesboro.com
SUMMARY:Christmas Eve Worship - 4pm
DESCRIPTION:Come worship with us on Christmas eve 4pm
URL:https://trinitywhitesboro.com/event/christmas-eve-worship-4pm/
LOCATION:Trinity UMC\, 8595 Westmorland Rd\, Whitesboro\, NY\, 13492\, United States
END:VEVENT
END:VCALENDAR