BEGIN:VCALENDAR
VERSION:2.0
PRODID:-//Trinity United Methodist Church - ECPv6.11.2//NONSGML v1.0//EN
CALSCALE:GREGORIAN
METHOD:PUBLISH
X-ORIGINAL-URL:https://trinitywhitesboro.com
X-WR-CALDESC:Events for Trinity United Methodist Church
REFRESH-INTERVAL;VALUE=DURATION:PT1H
X-Robots-Tag:noindex
X-PUBLISHED-TTL:PT1H
BEGIN:VTIMEZONE
TZID:UTC
BEGIN:STANDARD
TZOFFSETFROM:+0000
TZOFFSETTO:+0000
TZNAME:UTC
DTSTART:20230101T000000
END:STANDARD
END:VTIMEZONE
BEGIN:VEVENT
DTSTART;VALUE=DATE:20230905
DTEND;VALUE=DATE:20230906
DTSTAMP:20260422T055116
CREATED:20230905T151547Z
LAST-MODIFIED:20230905T151547Z
UID:3061-1693872000-1693958399@trinitywhitesboro.com
SUMMARY:Walking in the Word
DESCRIPTION:Walking in the Word – A “Gentle Walk” Lock 20 in Marcy (Lock is located on Route 49). After the walk all are welcome to come to Killino’s Riverside Diner.
URL:https://trinitywhitesboro.com/event/walking-in-the-word-3/
LOCATION:NY
END:VEVENT
BEGIN:VEVENT
DTSTART;VALUE=DATE:20230908
DTEND;VALUE=DATE:20230909
DTSTAMP:20260422T055116
CREATED:20230905T151423Z
LAST-MODIFIED:20230905T151423Z
UID:3059-1694131200-1694217599@trinitywhitesboro.com
SUMMARY:Ladies Small Group
DESCRIPTION:Ladies Small Group\, Contact Debbie McAloon
URL:https://trinitywhitesboro.com/event/ladies-small-group-3/
LOCATION:NY
END:VEVENT
BEGIN:VEVENT
DTSTART;TZID=UTC:20230917T140000
DTEND;TZID=UTC:20230917T150000
DTSTAMP:20260422T055116
CREATED:20230905T151658Z
LAST-MODIFIED:20230905T151658Z
UID:3063-1694959200-1694962800@trinitywhitesboro.com
SUMMARY:Hospice Service of Remembrance
DESCRIPTION:2pm Hospice Service of Remembrance
URL:https://trinitywhitesboro.com/event/hospice-service-of-remembrance/
LOCATION:NY
END:VEVENT
BEGIN:VEVENT
DTSTART;VALUE=DATE:20230919
DTEND;VALUE=DATE:20230920
DTSTAMP:20260422T055116
CREATED:20230905T151754Z
LAST-MODIFIED:20230905T151754Z
UID:3065-1695081600-1695167999@trinitywhitesboro.com
SUMMARY:Pinz Karaoke Night
DESCRIPTION:Karaoke Night at Pinz at Sangertown All Adults Fellowship!!
URL:https://trinitywhitesboro.com/event/pinz-karaoke-night/
LOCATION:NY
END:VEVENT
END:VCALENDAR