BEGIN:VCALENDAR
VERSION:2.0
PRODID:-//Trinity United Methodist Church - ECPv6.11.2//NONSGML v1.0//EN
CALSCALE:GREGORIAN
METHOD:PUBLISH
X-WR-CALNAME:Trinity United Methodist Church
X-ORIGINAL-URL:https://trinitywhitesboro.com
X-WR-CALDESC:Events for Trinity United Methodist Church
REFRESH-INTERVAL;VALUE=DURATION:PT1H
X-Robots-Tag:noindex
X-PUBLISHED-TTL:PT1H
BEGIN:VTIMEZONE
TZID:UTC
BEGIN:STANDARD
TZOFFSETFROM:+0000
TZOFFSETTO:+0000
TZNAME:UTC
DTSTART:20230101T000000
END:STANDARD
END:VTIMEZONE
BEGIN:VEVENT
DTSTART;TZID=UTC:20230728T173000
DTEND;TZID=UTC:20230728T183000
DTSTAMP:20260422T081305
CREATED:20230712T150732Z
LAST-MODIFIED:20230712T150732Z
UID:3042-1690565400-1690569000@trinitywhitesboro.com
SUMMARY:Ladies Small Group
DESCRIPTION:Ladies Small Group continues on Friday 7/28/23 at 5:30pm at the home of Caitlyn Wagner. If you plan on coming\, please bring your own meal. Learn more about your relationship with the Father\, Son and Holy Spirit.
URL:https://trinitywhitesboro.com/event/ladies-small-group/
LOCATION:NY
END:VEVENT
BEGIN:VEVENT
DTSTART;VALUE=DATE:20230730
DTEND;VALUE=DATE:20230731
DTSTAMP:20260422T081305
CREATED:20230712T150831Z
LAST-MODIFIED:20230712T150831Z
UID:3044-1690675200-1690761599@trinitywhitesboro.com
SUMMARY:Secular Songs
DESCRIPTION:On Sunday 7/30/23 we invite you to experience Secular Songs that are meaningful to you.  We are inviting 4-5 people to share brief witness about a Secular Song that has a special meaning to them.  If you would like to share in this experience\, please see Pastor Abigail or contact her at through her email @ PastorAbigail1@gmail.com
URL:https://trinitywhitesboro.com/event/secular-songs/
LOCATION:NY
END:VEVENT
END:VCALENDAR