BEGIN:VCALENDAR
VERSION:2.0
PRODID:-//Trinity United Methodist Church - ECPv6.11.2//NONSGML v1.0//EN
CALSCALE:GREGORIAN
METHOD:PUBLISH
X-ORIGINAL-URL:https://trinitywhitesboro.com
X-WR-CALDESC:Events for Trinity United Methodist Church
REFRESH-INTERVAL;VALUE=DURATION:PT1H
X-Robots-Tag:noindex
X-PUBLISHED-TTL:PT1H
BEGIN:VTIMEZONE
TZID:UTC
BEGIN:STANDARD
TZOFFSETFROM:+0000
TZOFFSETTO:+0000
TZNAME:UTC
DTSTART:20230101T000000
END:STANDARD
END:VTIMEZONE
BEGIN:VEVENT
DTSTART;TZID=UTC:20230604T100000
DTEND;TZID=UTC:20230604T110000
DTSTAMP:20260422T093538
CREATED:20230531T154710Z
LAST-MODIFIED:20230531T154710Z
UID:3015-1685872800-1685876400@trinitywhitesboro.com
SUMMARY:Youth Led Worship
DESCRIPTION:Come support our Youth this Sunday\, June 4 as they lead the 10am Worship Service at Trinity!  The youth welcome you to wear PJ’s or comfy clothing to Church.  We are excited and thankful to have young people leading our worship this Sunday.
URL:https://trinitywhitesboro.com/event/youth-led-worship/
LOCATION:NY
END:VEVENT
BEGIN:VEVENT
DTSTART;TZID=UTC:20230606T190000
DTEND;TZID=UTC:20230606T200000
DTSTAMP:20260422T093538
CREATED:20230511T173903Z
LAST-MODIFIED:20230511T173903Z
UID:2997-1686078000-1686081600@trinitywhitesboro.com
SUMMARY:Spring Refresh Small Group
DESCRIPTION:Includes reflection\, conversation and a walk together. Meet a church. Led by Pastor Abigail.
URL:https://trinitywhitesboro.com/event/spring-refresh-small-group-3/
LOCATION:Trinity UMC\, 8595 Westmorland Rd\, Whitesboro\, NY\, 13492\, United States
END:VEVENT
BEGIN:VEVENT
DTSTART;TZID=UTC:20230608T180000
DTEND;TZID=UTC:20230608T190000
DTSTAMP:20260422T093538
CREATED:20230511T173512Z
LAST-MODIFIED:20230602T152122Z
UID:2989-1686247200-1686250800@trinitywhitesboro.com
SUMMARY:Trinity Walking Group at Sherrill Brook Park
DESCRIPTION:Trinity Walking Group of the Mohawk Valley will meet at 6pm at Sherrill Brook Park in New Hartford on Thursday\, June 8.  They will be at the gazebo.  Be sure to wear appropriate footwear as this will be more like a hike rather than a walk.  If you have any questions\, please contact either Patti Whitney\, Terri Goff or the church office.
URL:https://trinitywhitesboro.com/event/trinity-walking-group-at-lock-20/
LOCATION:NY
END:VEVENT
BEGIN:VEVENT
DTSTART;TZID=UTC:20230610T160000
DTEND;TZID=UTC:20230610T190000
DTSTAMP:20260422T093538
CREATED:20230531T154833Z
LAST-MODIFIED:20230531T154956Z
UID:3017-1686412800-1686423600@trinitywhitesboro.com
SUMMARY:Church Luau
DESCRIPTION:Join us Saturday\, June 10 for food\, fellowship and fun at our 4pm-7pm Church Luau!  Friends and family are welcome.  We encourage you to wear Hawaiian or Beach apparel and bring your own lawn chairs and outdoor games.  Dinner will be provided.
URL:https://trinitywhitesboro.com/event/church-luau/
LOCATION:Trinity UMC\, 8595 Westmorland Rd\, Whitesboro\, NY\, 13492\, United States
ATTACH;FMTTYPE=image/jpeg:https://trinitywhitesboro.com/wp-content/uploads/2023/05/347580689_3192487514376247_2563591863446412939_n.jpg
END:VEVENT
BEGIN:VEVENT
DTSTART;TZID=UTC:20230611T100000
DTEND;TZID=UTC:20230611T110000
DTSTAMP:20260422T093538
CREATED:20230531T155049Z
LAST-MODIFIED:20230531T155049Z
UID:3020-1686477600-1686481200@trinitywhitesboro.com
SUMMARY:Silly Sunday
DESCRIPTION:Sunday\, June 11 following the Luau we will celebrate Silly Sunday to keep the fun going.
URL:https://trinitywhitesboro.com/event/silly-sunday/
LOCATION:Trinity UMC\, 8595 Westmorland Rd\, Whitesboro\, NY\, 13492\, United States
END:VEVENT
BEGIN:VEVENT
DTSTART;TZID=UTC:20230613T190000
DTEND;TZID=UTC:20230613T200000
DTSTAMP:20260422T093538
CREATED:20230511T173940Z
LAST-MODIFIED:20230511T173940Z
UID:2999-1686682800-1686686400@trinitywhitesboro.com
SUMMARY:Spring Refresh Small Group
DESCRIPTION:Includes reflection\, conversation and a walk together. Meet a church. Led by Pastor Abigail.
URL:https://trinitywhitesboro.com/event/spring-refresh-small-group-4/
LOCATION:Trinity UMC\, 8595 Westmorland Rd\, Whitesboro\, NY\, 13492\, United States
END:VEVENT
BEGIN:VEVENT
DTSTART;TZID=UTC:20230616T173000
DTEND;TZID=UTC:20230616T193000
DTSTAMP:20260422T093538
CREATED:20230531T154438Z
LAST-MODIFIED:20230531T154507Z
UID:3011-1686936600-1686943800@trinitywhitesboro.com
SUMMARY:Ladies Small Group
DESCRIPTION:This group meets together at the home of Caitlyn Wagner and is led by Deb McAloon.  It is a time for joining in a meal together (which you bring your own meal)\, support\, discussion\, prayer and scripture.  If you would like more information or need Caitlyn’s address please either email the church office or call at (315)736-7233 and we can give you that information.
URL:https://trinitywhitesboro.com/event/ladies-small-group-2/
LOCATION:NY
END:VEVENT
BEGIN:VEVENT
DTSTART;TZID=UTC:20230618T100000
DTEND;TZID=UTC:20230618T110000
DTSTAMP:20260422T093538
CREATED:20230616T181622Z
LAST-MODIFIED:20230616T181622Z
UID:3033-1687082400-1687086000@trinitywhitesboro.com
SUMMARY:Fathers Day/Communion/New Member
DESCRIPTION:This Sunday is Father’s Day.  We will also be sharing in the sacrament of Communion.  On this day we are also planning on welcoming a new member into our congregation\, Carl Beyer.  Please join us in welcoming him to our church family.
URL:https://trinitywhitesboro.com/event/fathers-day-communion-new-member/
LOCATION:Trinity UMC\, 8595 Westmorland Rd\, Whitesboro\, NY\, 13492\, United States
END:VEVENT
BEGIN:VEVENT
DTSTART;TZID=UTC:20230620T190000
DTEND;TZID=UTC:20230620T200000
DTSTAMP:20260422T093538
CREATED:20230511T174011Z
LAST-MODIFIED:20230613T195105Z
UID:3001-1687287600-1687291200@trinitywhitesboro.com
SUMMARY:Spring Refresh Small Group
DESCRIPTION:Includes reflection\, conversation and a walk together. Meet at church. Led by Pastor Abigail.
URL:https://trinitywhitesboro.com/event/spring-refresh-small-group-5/
LOCATION:Trinity UMC\, 8595 Westmorland Rd\, Whitesboro\, NY\, 13492\, United States
END:VEVENT
BEGIN:VEVENT
DTSTART;TZID=UTC:20230623T180000
DTEND;TZID=UTC:20230623T190000
DTSTAMP:20260422T093538
CREATED:20230616T181440Z
LAST-MODIFIED:20230620T170437Z
UID:3031-1687543200-1687546800@trinitywhitesboro.com
SUMMARY:Trinity Walking Group
DESCRIPTION:The Trinity Walking Group of the Mohawk Valley will be meeting on Friday\, June 23rd at 6pm.  Please meet at the gazebo at the Sherrill Brook Park in New Hartford.  This will be more of a hike opposed to a leisurely stroll so be prepared.
URL:https://trinitywhitesboro.com/event/trinity-walking-group-2/
LOCATION:Sherrillbrook Park\, Sherrillbrook Park\, New Hartford\, NY\, 13413\, United States
END:VEVENT
BEGIN:VEVENT
DTSTART;TZID=UTC:20230627T190000
DTEND;TZID=UTC:20230627T200000
DTSTAMP:20260422T093538
CREATED:20230511T174046Z
LAST-MODIFIED:20230613T195120Z
UID:3003-1687892400-1687896000@trinitywhitesboro.com
SUMMARY:Spring Refresh Small Group
DESCRIPTION:Includes reflection\, conversation and a walk together. Meet at church. Led by Pastor Abigail.
URL:https://trinitywhitesboro.com/event/spring-refresh-small-group-6/
LOCATION:Trinity UMC\, 8595 Westmorland Rd\, Whitesboro\, NY\, 13492\, United States
END:VEVENT
END:VCALENDAR