BEGIN:VCALENDAR
VERSION:2.0
PRODID:-//Trinity United Methodist Church - ECPv6.11.2//NONSGML v1.0//EN
CALSCALE:GREGORIAN
METHOD:PUBLISH
X-WR-CALNAME:Trinity United Methodist Church
X-ORIGINAL-URL:https://trinitywhitesboro.com
X-WR-CALDESC:Events for Trinity United Methodist Church
REFRESH-INTERVAL;VALUE=DURATION:PT1H
X-Robots-Tag:noindex
X-PUBLISHED-TTL:PT1H
BEGIN:VTIMEZONE
TZID:UTC
BEGIN:STANDARD
TZOFFSETFROM:+0000
TZOFFSETTO:+0000
TZNAME:UTC
DTSTART:20230101T000000
END:STANDARD
END:VTIMEZONE
BEGIN:VEVENT
DTSTART;TZID=UTC:20230520T150000
DTEND;TZID=UTC:20230520T170000
DTSTAMP:20260422T110545
CREATED:20230506T151902Z
LAST-MODIFIED:20230506T153134Z
UID:2982-1684594800-1684602000@trinitywhitesboro.com
SUMMARY:Celebration of Ministry for Outgoing Superintendent Roy
DESCRIPTION:The District Committee on Superintendency invites you to an Open House reception in celebration of Rev. Abel Roy’s eight years of ministry as Superintendent for the Mohawk Valley District and Northeast Region from 3-5pm\, Saturday\, May 20\, at First UMC\, 105 Genesee Street\, New Hartford\, NY.  This event will be an Open House-style reception.  There will be a short program at 4pm.  There are no gifts\, however\, Rev. Roy invites you to make a gift to your local church in his honor\, if you should choose to do so.  There will be a memory book at the celebration for those who wish to write a note for the Superintendent. \nRev. Roy will be appointed to serve a local church beginning July 1\, as he has reached the maximum term allowed as a Superintendent.  Beginning July 1\, a new Superintendent will serve the District. \nEveryone in invited.  RSVP is strongly encouraged and requested for planning purposes\, but not required\, by May 16 to: 315-797-1777\, please leave a message\, or email to: mohawkdistrict@unyumc.org \nHope to see many of you there to show your love and support to Rev. Roy.
URL:https://trinitywhitesboro.com/event/celebration-of-ministry-for-outgoing-superintendent-roy/
LOCATION:First UMC\, 105 Genesee Street\, New Hartford\, NY\, 13413\, United States
END:VEVENT
BEGIN:VEVENT
DTSTART;TZID=UTC:20230523T180000
DTEND;TZID=UTC:20230523T190000
DTSTAMP:20260422T110545
CREATED:20230511T174222Z
LAST-MODIFIED:20230511T174222Z
UID:3005-1684864800-1684868400@trinitywhitesboro.com
SUMMARY:Vision Living Team
DESCRIPTION:
URL:https://trinitywhitesboro.com/event/vision-living-team/
LOCATION:Trinity UMC\, 8595 Westmorland Rd\, Whitesboro\, NY\, 13492\, United States
END:VEVENT
BEGIN:VEVENT
DTSTART;TZID=UTC:20230523T190000
DTEND;TZID=UTC:20230523T200000
DTSTAMP:20260422T110545
CREATED:20230511T173730Z
LAST-MODIFIED:20230511T173730Z
UID:2991-1684868400-1684872000@trinitywhitesboro.com
SUMMARY:Spring Refresh Small Group
DESCRIPTION:Includes reflection\, conversation and a walk together. Meet a church. Led by Pastor Abigail.
URL:https://trinitywhitesboro.com/event/spring-refresh-small-group/
LOCATION:Trinity UMC\, 8595 Westmorland Rd\, Whitesboro\, NY\, 13492\, United States
END:VEVENT
BEGIN:VEVENT
DTSTART;TZID=UTC:20230530T190000
DTEND;TZID=UTC:20230530T200000
DTSTAMP:20260422T110545
CREATED:20230511T173828Z
LAST-MODIFIED:20230511T173828Z
UID:2995-1685473200-1685476800@trinitywhitesboro.com
SUMMARY:Spring Refresh Small Group
DESCRIPTION:Includes reflection\, conversation and a walk together. Meet a church. Led by Pastor Abigail.
URL:https://trinitywhitesboro.com/event/spring-refresh-small-group-2/
LOCATION:Trinity UMC\, 8595 Westmorland Rd\, Whitesboro\, NY\, 13492\, United States
END:VEVENT
END:VCALENDAR