BEGIN:VCALENDAR
VERSION:2.0
PRODID:-//Trinity United Methodist Church - ECPv6.11.2//NONSGML v1.0//EN
CALSCALE:GREGORIAN
METHOD:PUBLISH
X-ORIGINAL-URL:https://trinitywhitesboro.com
X-WR-CALDESC:Events for Trinity United Methodist Church
REFRESH-INTERVAL;VALUE=DURATION:PT1H
X-Robots-Tag:noindex
X-PUBLISHED-TTL:PT1H
BEGIN:VTIMEZONE
TZID:UTC
BEGIN:STANDARD
TZOFFSETFROM:+0000
TZOFFSETTO:+0000
TZNAME:UTC
DTSTART:20230101T000000
END:STANDARD
END:VTIMEZONE
BEGIN:VEVENT
DTSTART;TZID=UTC:20230402T100000
DTEND;TZID=UTC:20230402T110000
DTSTAMP:20260422T133813
CREATED:20230313T181340Z
LAST-MODIFIED:20230313T181340Z
UID:2953-1680429600-1680433200@trinitywhitesboro.com
SUMMARY:Palm Sunday
DESCRIPTION:Come worship on Palm Sunday.
URL:https://trinitywhitesboro.com/event/palm-sunday/
LOCATION:Trinity UMC\, 8595 Westmorland Rd\, Whitesboro\, NY\, 13492\, United States
END:VEVENT
BEGIN:VEVENT
DTSTART;TZID=UTC:20230404T190000
DTEND;TZID=UTC:20230404T200000
DTSTAMP:20260422T133813
CREATED:20230218T161648Z
LAST-MODIFIED:20230218T161648Z
UID:2940-1680634800-1680638400@trinitywhitesboro.com
SUMMARY:Lenten Bible Study Final Meeting
DESCRIPTION:On Tuesday\, February 28 we will begin our Lenten Bible Study. We will be meeting every Tuesday during the Lenten season (2/28\, 3/7\, 3/14\, 3/21\, 3/28 and 4/4) This study is written by Methodist minister\, Rev. Adam Hamilton. The series is called “John: The Gospel of Light and Life”. This will be led by Pastor Abigail and will be held in person from 7pm-8pm at the church. If you have not yet signed up you still can\, you will just need to order your own book through either Christianbooks.com or Amazon as we have already placed the order through the church for those who have already signed up.
URL:https://trinitywhitesboro.com/event/lenten-bible-study-final-meeting/
LOCATION:Trinity UMC\, 8595 Westmorland Rd\, Whitesboro\, NY\, 13492\, United States
END:VEVENT
BEGIN:VEVENT
DTSTART;TZID=UTC:20230407T183000
DTEND;TZID=UTC:20230407T193000
DTSTAMP:20260422T133813
CREATED:20230313T195058Z
LAST-MODIFIED:20230313T195058Z
UID:2959-1680892200-1680895800@trinitywhitesboro.com
SUMMARY:Good Friday Worship
DESCRIPTION:Come join us for worship on Good Friday.
URL:https://trinitywhitesboro.com/event/good-friday-worship/
LOCATION:Trinity UMC\, 8595 Westmorland Rd\, Whitesboro\, NY\, 13492\, United States
END:VEVENT
BEGIN:VEVENT
DTSTART;TZID=UTC:20230409T100000
DTEND;TZID=UTC:20230409T100000
DTSTAMP:20260422T133813
CREATED:20230313T181452Z
LAST-MODIFIED:20230313T181452Z
UID:2955-1681034400-1681034400@trinitywhitesboro.com
SUMMARY:Easter
DESCRIPTION:Come worship Easter morning.
URL:https://trinitywhitesboro.com/event/easter/
LOCATION:NY
END:VEVENT
BEGIN:VEVENT
DTSTART;TZID=UTC:20230426T130000
DTEND;TZID=UTC:20230426T160000
DTSTAMP:20260422T133813
CREATED:20230422T173931Z
LAST-MODIFIED:20230422T173931Z
UID:2977-1682514000-1682524800@trinitywhitesboro.com
SUMMARY:Parsonage Clean-Up
DESCRIPTION:We would like to invite anyone who would like to help clean up the parsonage to join them in this effort.  With much thought\, prayer and consideration it has been decided to put the parsonage on the market for sale. A number of factors went into this decision and if you have any questions\, please contact Jeff or Pete. \nTimes are Wednesday\, April 26 from 1pm-4pm and Saturday\, April 29 from 1pm-4pm \nThe address of the parsonage is:  15 Chateau Drive\, Whitesboro \nFeel free to bring rakes\, cleaning rags and buckets and whatever else you think you or we might need.
URL:https://trinitywhitesboro.com/event/parsonage-clean-up/
LOCATION:NY
END:VEVENT
BEGIN:VEVENT
DTSTART;TZID=UTC:20230429T130000
DTEND;TZID=UTC:20230429T140000
DTSTAMP:20260422T133813
CREATED:20230422T173556Z
LAST-MODIFIED:20230422T173556Z
UID:2975-1682773200-1682776800@trinitywhitesboro.com
SUMMARY:Trinity Walking Group
DESCRIPTION:The next Trinity Walking Group Event is planned for Saturday\, April 29th at 1pm at Lock 20 State Park on the Erie Canal (Barge Canal) in Marcy.  As of right now the weather looks wet so dress appropriately.  Hopefully that will change.  Come out and join in the beautiful scenery along the canal.
URL:https://trinitywhitesboro.com/event/trinity-walking-group/
LOCATION:NY
END:VEVENT
BEGIN:VEVENT
DTSTART;TZID=UTC:20230429T130000
DTEND;TZID=UTC:20230429T160000
DTSTAMP:20260422T133813
CREATED:20230422T174134Z
LAST-MODIFIED:20230422T174134Z
UID:2979-1682773200-1682784000@trinitywhitesboro.com
SUMMARY:Parsonage Clean-Up
DESCRIPTION:We would like to invite anyone who would like to help clean up the parsonage to join them in this effort.  With much thought\, prayer and consideration it has been decided to put the parsonage on the market for sale. A number of factors went into this decision and if you have any questions\, please contact Jeff or Pete. \nThe time is Saturday\, April 29 from 1pm-4pm \nThe address of the parsonage is:  15 Chateau Drive\, Whitesboro \nFeel free to bring rakes\, cleaning rags and buckets and whatever else you think you or we might need.
URL:https://trinitywhitesboro.com/event/parsonage-clean-up-2/
LOCATION:NY
END:VEVENT
END:VCALENDAR