BEGIN:VCALENDAR
VERSION:2.0
PRODID:-//Trinity United Methodist Church - ECPv6.11.2//NONSGML v1.0//EN
CALSCALE:GREGORIAN
METHOD:PUBLISH
X-ORIGINAL-URL:https://trinitywhitesboro.com
X-WR-CALDESC:Events for Trinity United Methodist Church
REFRESH-INTERVAL;VALUE=DURATION:PT1H
X-Robots-Tag:noindex
X-PUBLISHED-TTL:PT1H
BEGIN:VTIMEZONE
TZID:UTC
BEGIN:STANDARD
TZOFFSETFROM:+0000
TZOFFSETTO:+0000
TZNAME:UTC
DTSTART:20230101T000000
END:STANDARD
END:VTIMEZONE
BEGIN:VEVENT
DTSTART;TZID=UTC:20230307T190000
DTEND;TZID=UTC:20230307T200000
DTSTAMP:20260422T133813
CREATED:20230218T161253Z
LAST-MODIFIED:20230218T161330Z
UID:2930-1678215600-1678219200@trinitywhitesboro.com
SUMMARY:Lenten Bible Study 2nd Meeting
DESCRIPTION:On Tuesday\, February 28 we will begin our Lenten Bible Study. We will be meeting every Tuesday during the Lenten season (2/28\, 3/7\, 3/14\, 3/21\, 3/28 and 4/4) This study is written by Methodist minister\, Rev. Adam Hamilton. The series is called “John: The Gospel of Light and Life”. This will be led by Pastor Abigail and will be held in person from 7pm-8pm at the church. If you have not yet signed up you still can\, you will just need to order your own book through either Christianbooks.com or Amazon as we have already placed the order through the church for those who have already signed up.
URL:https://trinitywhitesboro.com/event/lenten-bible-study-2nd-meeting/
LOCATION:Trinity UMC\, 8595 Westmorland Rd\, Whitesboro\, NY\, 13492\, United States
END:VEVENT
BEGIN:VEVENT
DTSTART;TZID=UTC:20230314T190000
DTEND;TZID=UTC:20230314T200000
DTSTAMP:20260422T133813
CREATED:20230218T161422Z
LAST-MODIFIED:20230218T161422Z
UID:2934-1678820400-1678824000@trinitywhitesboro.com
SUMMARY:Lenten Bible Study 3rd Meeting
DESCRIPTION:On Tuesday\, February 28 we will begin our Lenten Bible Study. We will be meeting every Tuesday during the Lenten season (2/28\, 3/7\, 3/14\, 3/21\, 3/28 and 4/4) This study is written by Methodist minister\, Rev. Adam Hamilton. The series is called “John: The Gospel of Light and Life”. This will be led by Pastor Abigail and will be held in person from 7pm-8pm at the church. If you have not yet signed up you still can\, you will just need to order your own book through either Christianbooks.com or Amazon as we have already placed the order through the church for those who have already signed up.
URL:https://trinitywhitesboro.com/event/lenten-bible-study-3rd-meeting/
LOCATION:Trinity UMC\, 8595 Westmorland Rd\, Whitesboro\, NY\, 13492\, United States
END:VEVENT
BEGIN:VEVENT
DTSTART;TZID=UTC:20230318T130000
DTEND;TZID=UTC:20230318T140000
DTSTAMP:20260422T133813
CREATED:20230218T161006Z
LAST-MODIFIED:20230313T194911Z
UID:2926-1679144400-1679148000@trinitywhitesboro.com
SUMMARY:Trinity Walking Group of the Mohawk Valley
DESCRIPTION:This week (3/18) the walk will take place at the Rayhill Memorial Trail in Whitesboro. Please meet at 1:00 at the parking lot access point on the corner of Clark Mills Road and Route 840.  Remember to dress appropriately\, jackets\, boots\, gloves\, hats\, etc.
URL:https://trinitywhitesboro.com/event/walking-in-the-word-book-of-james/
LOCATION:NY
END:VEVENT
BEGIN:VEVENT
DTSTART;TZID=UTC:20230321T190000
DTEND;TZID=UTC:20230321T200000
DTSTAMP:20260422T133813
CREATED:20230218T161459Z
LAST-MODIFIED:20230218T161459Z
UID:2936-1679425200-1679428800@trinitywhitesboro.com
SUMMARY:Lenten Bible Study 4th Meeting
DESCRIPTION:On Tuesday\, February 28 we will begin our Lenten Bible Study. We will be meeting every Tuesday during the Lenten season (2/28\, 3/7\, 3/14\, 3/21\, 3/28 and 4/4) This study is written by Methodist minister\, Rev. Adam Hamilton. The series is called “John: The Gospel of Light and Life”. This will be led by Pastor Abigail and will be held in person from 7pm-8pm at the church. If you have not yet signed up you still can\, you will just need to order your own book through either Christianbooks.com or Amazon as we have already placed the order through the church for those who have already signed up.
URL:https://trinitywhitesboro.com/event/lenten-bible-study-4th-meeting/
LOCATION:Trinity UMC\, 8595 Westmorland Rd\, Whitesboro\, NY\, 13492\, United States
END:VEVENT
BEGIN:VEVENT
DTSTART;TZID=UTC:20230323T190000
DTEND;TZID=UTC:20230323T200000
DTSTAMP:20260422T133813
CREATED:20230313T180815Z
LAST-MODIFIED:20230313T180815Z
UID:2949-1679598000-1679601600@trinitywhitesboro.com
SUMMARY:Healing and Prayer Service
DESCRIPTION:Join us for a healing and prayer service from 7pm to 8pm the theme will be laughter.
URL:https://trinitywhitesboro.com/event/healing-and-prayer-service/
LOCATION:Trinity UMC\, 8595 Westmorland Rd\, Whitesboro\, NY\, 13492\, United States
END:VEVENT
BEGIN:VEVENT
DTSTART;TZID=UTC:20230326T110000
DTEND;TZID=UTC:20230326T120000
DTSTAMP:20260422T133813
CREATED:20230313T181225Z
LAST-MODIFIED:20230313T181225Z
UID:2951-1679828400-1679832000@trinitywhitesboro.com
SUMMARY:Pie With The Pastor
DESCRIPTION:come enjoy pie with the pastor for those newer or recently returned following worship. Enjoy pie and get to know each other. RSVP by March 19 at office@trinitywhitesboro.com
URL:https://trinitywhitesboro.com/event/pie-with-the-pastor/
LOCATION:Trinity UMC\, 8595 Westmorland Rd\, Whitesboro\, NY\, 13492\, United States
CATEGORIES:Events at Trinity
END:VEVENT
BEGIN:VEVENT
DTSTART;TZID=UTC:20230328T190000
DTEND;TZID=UTC:20230328T200000
DTSTAMP:20260422T133813
CREATED:20230218T161532Z
LAST-MODIFIED:20230218T161532Z
UID:2938-1680030000-1680033600@trinitywhitesboro.com
SUMMARY:Lenten Bible Study 5th Meeting
DESCRIPTION:On Tuesday\, February 28 we will begin our Lenten Bible Study. We will be meeting every Tuesday during the Lenten season (2/28\, 3/7\, 3/14\, 3/21\, 3/28 and 4/4) This study is written by Methodist minister\, Rev. Adam Hamilton. The series is called “John: The Gospel of Light and Life”. This will be led by Pastor Abigail and will be held in person from 7pm-8pm at the church. If you have not yet signed up you still can\, you will just need to order your own book through either Christianbooks.com or Amazon as we have already placed the order through the church for those who have already signed up.
URL:https://trinitywhitesboro.com/event/lenten-bible-study-5th-meeting/
LOCATION:Trinity UMC\, 8595 Westmorland Rd\, Whitesboro\, NY\, 13492\, United States
END:VEVENT
END:VCALENDAR