BEGIN:VCALENDAR
VERSION:2.0
PRODID:-//Trinity United Methodist Church - ECPv6.11.2//NONSGML v1.0//EN
CALSCALE:GREGORIAN
METHOD:PUBLISH
X-ORIGINAL-URL:https://trinitywhitesboro.com
X-WR-CALDESC:Events for Trinity United Methodist Church
REFRESH-INTERVAL;VALUE=DURATION:PT1H
X-Robots-Tag:noindex
X-PUBLISHED-TTL:PT1H
BEGIN:VTIMEZONE
TZID:UTC
BEGIN:STANDARD
TZOFFSETFROM:+0000
TZOFFSETTO:+0000
TZNAME:UTC
DTSTART:20230101T000000
END:STANDARD
END:VTIMEZONE
BEGIN:VEVENT
DTSTART;TZID=UTC:20230219T100000
DTEND;TZID=UTC:20230219T110000
DTSTAMP:20260422T150803
CREATED:20230218T160335Z
LAST-MODIFIED:20230218T160335Z
UID:2916-1676800800-1676804400@trinitywhitesboro.com
SUMMARY:Wrapping Up "Love Letters to God"
DESCRIPTION:This Sunday\, February 19th Pastor Abigail will be wrapping up her sermon series\, “Love Letters to God”. We will be focusing on Psalm 42: Thirsting for God.
URL:https://trinitywhitesboro.com/event/wrapping-up-love-letters-to-god/
LOCATION:Trinity UMC\, 8595 Westmorland Rd\, Whitesboro\, NY\, 13492\, United States
END:VEVENT
BEGIN:VEVENT
DTSTART;TZID=UTC:20230221T180000
DTEND;TZID=UTC:20230221T200000
DTSTAMP:20260422T150803
CREATED:20230218T160445Z
LAST-MODIFIED:20230218T160445Z
UID:2918-1677002400-1677009600@trinitywhitesboro.com
SUMMARY:Vision Living Team Meeting
DESCRIPTION:For those on the Vision Living Team\, don’t forget that we have a meeting on Tuesday\, February 21 from 6-8pm.
URL:https://trinitywhitesboro.com/event/vision-living-team-meeting/
LOCATION:Trinity UMC\, 8595 Westmorland Rd\, Whitesboro\, NY\, 13492\, United States
END:VEVENT
BEGIN:VEVENT
DTSTART;TZID=UTC:20230222T180000
DTEND;TZID=UTC:20230222T190000
DTSTAMP:20260422T150803
CREATED:20230218T160619Z
LAST-MODIFIED:20230218T160619Z
UID:2920-1677088800-1677092400@trinitywhitesboro.com
SUMMARY:Ash Wednesday Service
DESCRIPTION:Wednesday\, February 22 is our Ash Wednesday service. This solemn service will begin at 6pm.
URL:https://trinitywhitesboro.com/event/ash-wednesday-service/
LOCATION:Trinity UMC\, 8595 Westmorland Rd\, Whitesboro\, NY\, 13492\, United States
END:VEVENT
BEGIN:VEVENT
DTSTART;TZID=UTC:20230223T190000
DTEND;TZID=UTC:20230223T200000
DTSTAMP:20260422T150803
CREATED:20230218T160748Z
LAST-MODIFIED:20230218T160748Z
UID:2922-1677178800-1677182400@trinitywhitesboro.com
SUMMARY:Healing and Prayer Service Hosted by Jerry
DESCRIPTION:Thursday\, February 23 Jerry will be hosting our healing and prayer service from 7pm-8pm. This month’s title is: “Dream in Honor of Black History Month”. This is always a very moving service\, please make plans to attend.
URL:https://trinitywhitesboro.com/event/healing-and-prayer-service-hosted-by-jerry/
LOCATION:Trinity UMC\, 8595 Westmorland Rd\, Whitesboro\, NY\, 13492\, United States
END:VEVENT
BEGIN:VEVENT
DTSTART;TZID=UTC:20230226T100000
DTEND;TZID=UTC:20230226T110000
DTSTAMP:20260422T150803
CREATED:20230218T160836Z
LAST-MODIFIED:20230218T160849Z
UID:2924-1677405600-1677409200@trinitywhitesboro.com
SUMMARY:First Sunday of Lent
DESCRIPTION:Sunday\, February 26\, is the first Sunday of Lent. Service begins at 10am.
URL:https://trinitywhitesboro.com/event/first-sunday-of-lent/
LOCATION:Trinity UMC\, 8595 Westmorland Rd\, Whitesboro\, NY\, 13492\, United States
END:VEVENT
BEGIN:VEVENT
DTSTART;TZID=UTC:20230228T190000
DTEND;TZID=UTC:20230228T200000
DTSTAMP:20260422T150803
CREATED:20230218T161133Z
LAST-MODIFIED:20230218T161133Z
UID:2928-1677610800-1677614400@trinitywhitesboro.com
SUMMARY:Lenten Bible Study Begins
DESCRIPTION:On Tuesday\, February 28 we will begin our Lenten Bible Study. We will be meeting every Tuesday during the Lenten season (2/28\, 3/7\, 3/14\, 3/21\, 3/28 and 4/4) This study is written by Methodist minister\, Rev. Adam Hamilton. The series is called “John: The Gospel of Light and Life”. This will be led by Pastor Abigail and will be held in person from 7pm-8pm at the church. If you have not yet signed up you still can\, you will just need to order your own book through either Christianbooks.com or Amazon as we have already placed the order through the church for those who have already signed up.
URL:https://trinitywhitesboro.com/event/lenten-bible-study-begins/
LOCATION:Trinity UMC\, 8595 Westmorland Rd\, Whitesboro\, NY\, 13492\, United States
END:VEVENT
END:VCALENDAR