BEGIN:VCALENDAR
VERSION:2.0
PRODID:-//Trinity United Methodist Church - ECPv6.11.2//NONSGML v1.0//EN
CALSCALE:GREGORIAN
METHOD:PUBLISH
X-WR-CALNAME:Trinity United Methodist Church
X-ORIGINAL-URL:https://trinitywhitesboro.com
X-WR-CALDESC:Events for Trinity United Methodist Church
REFRESH-INTERVAL;VALUE=DURATION:PT1H
X-Robots-Tag:noindex
X-PUBLISHED-TTL:PT1H
BEGIN:VTIMEZONE
TZID:UTC
BEGIN:STANDARD
TZOFFSETFROM:+0000
TZOFFSETTO:+0000
TZNAME:UTC
DTSTART:20220101T000000
END:STANDARD
END:VTIMEZONE
BEGIN:VEVENT
DTSTART;TZID=UTC:20221204T100000
DTEND;TZID=UTC:20221204T110000
DTSTAMP:20260422T174626
CREATED:20221203T190437Z
LAST-MODIFIED:20221203T190437Z
UID:2860-1670148000-1670151600@trinitywhitesboro.com
SUMMARY:Second Advent - Peace
DESCRIPTION:Sunday\, December 4th is the second Sunday of Advent and is represented by the candle of PEACE.  Peace is what we as followers strive for.  Jesus speaks many times about peace.  One particular time is in the book of John in chapter 14 verse 27.  “Peace I leave with you; my peace I give you.  I do not give to you as the world gives.  Do not let your hearts be troubled and do not be afraid.” (NIV)
URL:https://trinitywhitesboro.com/event/second-advent-peace/
LOCATION:Trinity UMC\, 8595 Westmorland Rd\, Whitesboro\, NY\, 13492\, United States
CATEGORIES:Events at Trinity
END:VEVENT
BEGIN:VEVENT
DTSTART;TZID=UTC:20221206T180000
DTEND;TZID=UTC:20221206T193000
DTSTAMP:20260422T174626
CREATED:20221203T191355Z
LAST-MODIFIED:20221203T191355Z
UID:2873-1670349600-1670355000@trinitywhitesboro.com
SUMMARY:Spiritual Gift Survey & White Elephant Gift Exchange
DESCRIPTION:We invite you to come to gather in fellowship with your fellow Trinitarians and find out what your spiritual gifts are as Pastor Abigail leads us through a Spiritual Gift Survey.  We will also be having a “white elephant” gift exchange so please bring a small\, gift-wrapped item.  Come and join us for this fun evening.
URL:https://trinitywhitesboro.com/event/spiritual-gift-survey-white-elephant-gift-exchange/
LOCATION:Trinity UMC\, 8595 Westmorland Rd\, Whitesboro\, NY\, 13492\, United States
CATEGORIES:Events at Trinity
END:VEVENT
BEGIN:VEVENT
DTSTART;TZID=UTC:20221211T100000
DTEND;TZID=UTC:20221211T110000
DTSTAMP:20260422T174626
CREATED:20221203T190611Z
LAST-MODIFIED:20221203T190611Z
UID:2863-1670752800-1670756400@trinitywhitesboro.com
SUMMARY:Third Advent - Joy
DESCRIPTION:Sunday\, December 11th is the third Sunday of Advent and is represented by the candle of JOY.  Sometimes it is hard to be JOYful or feel JOYous\, even at Christmas time.  We all have hurts and/or heartache in our lives.  But the good news is that we can find JOY in the little things.  All we need to do is let go and let God show it to us.  Like when you see a child squeal at the excitement of seeing Santa Claus in the mall.  How about when you see a new puppy or kitten playing with their siblings?! The hug from a friend who knows that you are hurting\, which came to you at just the right moment.  You might not feel outwardly joyful\, but your heart feels it.  Paul tells the people of Thessalonica in 1 Thessalonians 5:16-18 “Rejoice always\, pray continually\, give thanks in all circumstances; for this is God’s will for you in Christ Jesus.” (NIV)
URL:https://trinitywhitesboro.com/event/third-advent-joy/
LOCATION:Trinity UMC\, 8595 Westmorland Rd\, Whitesboro\, NY\, 13492\, United States
CATEGORIES:Events at Trinity
END:VEVENT
BEGIN:VEVENT
DTSTART;TZID=UTC:20221218T100000
DTEND;TZID=UTC:20221218T110000
DTSTAMP:20260422T174626
CREATED:20221203T190720Z
LAST-MODIFIED:20221203T190720Z
UID:2865-1671357600-1671361200@trinitywhitesboro.com
SUMMARY:Fourth Advent - Love
DESCRIPTION:Sunday\, December 18th is the fourth Sunday of Advent and is represented by the candle of LOVE.  LOVE is the greatest gift that one can give or receive.  One can have an expensive car\, loads of jewelry\, name brand clothes or the biggest most extravagant house in the world\, but if they don’t know how to give or receive love than they have nothing.  There is a quote that was in a Woman’s Day magazine by Mary C. Neal and it states\, “The more we love\, the more we have to offer.  So it is with God’s love for us.  It is inexhaustible.”  Let our love during this Christmas season and beyond be like that of God.  The One who taught us how to love unconditionally.
URL:https://trinitywhitesboro.com/event/fourth-advent-love/
LOCATION:Trinity UMC\, 8595 Westmorland Rd\, Whitesboro\, NY\, 13492\, United States
END:VEVENT
BEGIN:VEVENT
DTSTART;TZID=UTC:20221222T190000
DTEND;TZID=UTC:20221222T200000
DTSTAMP:20260422T174626
CREATED:20221203T191512Z
LAST-MODIFIED:20221219T162429Z
UID:2875-1671735600-1671739200@trinitywhitesboro.com
SUMMARY:The Joy of a Child Healing Service
DESCRIPTION:We will have our monthly healing service at 7pm in the sanctuary.  This title for this evening is “The Joy of a Child” and will be led by our very own Jerry Plows.  Come and be blessed by this amazing experience.
URL:https://trinitywhitesboro.com/event/the-joy-of-a-child-healing-service/
LOCATION:Trinity UMC\, 8595 Westmorland Rd\, Whitesboro\, NY\, 13492\, United States
CATEGORIES:Events at Trinity
END:VEVENT
BEGIN:VEVENT
DTSTART;TZID=UTC:20221224T160000
DTEND;TZID=UTC:20221224T170000
DTSTAMP:20260422T174626
CREATED:20221203T190923Z
LAST-MODIFIED:20221203T190923Z
UID:2867-1671897600-1671901200@trinitywhitesboro.com
SUMMARY:Christmas Eve - Christ Candle
DESCRIPTION:On Christmas Eve we will light the final candle\, the Christ candle.  Our hope and prayer is that everyone who reads this email will come and celebrate Christ’s birth with us.  Worship begins and 4pm.  There will be a special message for the children\, we will share in the Lord’s super\, and we will participate in the lighting of candles while singing “Silent Night”.  Please pray about joining us and bringing your family and friends.
URL:https://trinitywhitesboro.com/event/christmas-eve-christ-candle/
LOCATION:NY
END:VEVENT
END:VCALENDAR