BEGIN:VCALENDAR
VERSION:2.0
PRODID:-//Trinity United Methodist Church - ECPv6.11.2//NONSGML v1.0//EN
CALSCALE:GREGORIAN
METHOD:PUBLISH
X-WR-CALNAME:Trinity United Methodist Church
X-ORIGINAL-URL:https://trinitywhitesboro.com
X-WR-CALDESC:Events for Trinity United Methodist Church
REFRESH-INTERVAL;VALUE=DURATION:PT1H
X-Robots-Tag:noindex
X-PUBLISHED-TTL:PT1H
BEGIN:VTIMEZONE
TZID:UTC
BEGIN:STANDARD
TZOFFSETFROM:+0000
TZOFFSETTO:+0000
TZNAME:UTC
DTSTART:20190101T000000
END:STANDARD
END:VTIMEZONE
BEGIN:VEVENT
DTSTART;TZID=UTC:20190915T180000
DTEND;TZID=UTC:20190915T200000
DTSTAMP:20260422T220706
CREATED:20190904T125354Z
LAST-MODIFIED:20190904T125354Z
UID:2416-1568570400-1568577600@trinitywhitesboro.com
SUMMARY:RaGE Youth Group Kick-off
DESCRIPTION:All 7th-12th Graders are Welcome!
URL:https://trinitywhitesboro.com/event/rage-youth-group-kick-off/
END:VEVENT
END:VCALENDAR