BEGIN:VCALENDAR
VERSION:2.0
PRODID:-//Trinity United Methodist Church - ECPv6.11.2//NONSGML v1.0//EN
CALSCALE:GREGORIAN
METHOD:PUBLISH
X-WR-CALNAME:Trinity United Methodist Church
X-ORIGINAL-URL:https://trinitywhitesboro.com
X-WR-CALDESC:Events for Trinity United Methodist Church
REFRESH-INTERVAL;VALUE=DURATION:PT1H
X-Robots-Tag:noindex
X-PUBLISHED-TTL:PT1H
BEGIN:VTIMEZONE
TZID:UTC
BEGIN:STANDARD
TZOFFSETFROM:+0000
TZOFFSETTO:+0000
TZNAME:UTC
DTSTART:20240101T000000
END:STANDARD
END:VTIMEZONE
BEGIN:VEVENT
DTSTART;VALUE=DATE:20241102
DTEND;VALUE=DATE:20241103
DTSTAMP:20260421T141253
CREATED:20241030T201334Z
LAST-MODIFIED:20241030T201334Z
UID:3316-1730505600-1730591999@trinitywhitesboro.com
SUMMARY:Karaoke
DESCRIPTION:Join us for a karaoke night at Pinz!
URL:https://trinitywhitesboro.com/event/karaoke/
LOCATION:Pinz\, 8555 Seneca Turnpike\, New Hartford\, NY\, 13413\, United States
END:VEVENT
BEGIN:VEVENT
DTSTART;TZID=UTC:20241110T161500
DTEND;TZID=UTC:20241110T161500
DTSTAMP:20260421T141253
CREATED:20241030T201948Z
LAST-MODIFIED:20241030T201948Z
UID:3320-1731255300-1731255300@trinitywhitesboro.com
SUMMARY:Charge Conference
DESCRIPTION:Join us for the Charge Conference at Westmoreland UMC!
URL:https://trinitywhitesboro.com/event/charge-conference/
LOCATION:Westmoreland UMC\, 7286 W Main St\, Westmoreland\, 13490
END:VEVENT
BEGIN:VEVENT
DTSTART;TZID=UTC:20241112T180000
DTEND;TZID=UTC:20241112T180000
DTSTAMP:20260421T141253
CREATED:20241030T202151Z
LAST-MODIFIED:20241030T202151Z
UID:3324-1731434400-1731434400@trinitywhitesboro.com
SUMMARY:Small Group Study
DESCRIPTION:The start of our 6 Week Small Group Study at Trinity\, All are invited — The study is  called ”The Christmas Experience” by City on a Hill Productions.
URL:https://trinitywhitesboro.com/event/small-group-study/
LOCATION:Trinity UMC\, 8595 Westmorland Rd\, Whitesboro\, NY\, 13492\, United States
END:VEVENT
BEGIN:VEVENT
DTSTART;TZID=UTC:20241224T180000
DTEND;TZID=UTC:20241224T190000
DTSTAMP:20260421T141253
CREATED:20241218T220623Z
LAST-MODIFIED:20241218T221334Z
UID:3352-1735063200-1735066800@trinitywhitesboro.com
SUMMARY:Christmas Eve Worship & Candlelight Service - 6pm
DESCRIPTION:Come worship with us on Christmas eve as we celebrate the birth of our savior\, Jesus Christ! A joy to the world!
URL:https://trinitywhitesboro.com/event/christmas-eve-worship-candlelight-service-6pm/
LOCATION:Trinity UMC\, 8595 Westmorland Rd\, Whitesboro\, NY\, 13492\, United States
CATEGORIES:Events at Trinity
END:VEVENT
BEGIN:VEVENT
DTSTART;TZID=UTC:20250117T180000
DTEND;TZID=UTC:20250117T190000
DTSTAMP:20260421T141253
CREATED:20241218T222019Z
LAST-MODIFIED:20241218T230702Z
UID:3354-1737136800-1737140400@trinitywhitesboro.com
SUMMARY:Paint and Sip Fundraiser
DESCRIPTION:Join us for a fun-filled Paint & Sip Fundraiser! No artistic skills required – just bring your creativity and a willingness to have fun. All painting supplies and a step-by-step guide will be provided by artist Jill Vennera. Sip on hot beverages and indulge in delicious desserts while you paint the night away. All proceeds to benefit the 2025 Costa Rica mission trip. \nRegister online: https://www.churchteams.com/m/b/Register.asp?a=YTNBRE1hK0gwWkE9
URL:https://trinitywhitesboro.com/event/paint-and-sip-fundraiser/
LOCATION:Trinity UMC\, 8595 Westmorland Rd\, Whitesboro\, NY\, 13492\, United States
END:VEVENT
BEGIN:VEVENT
DTSTART;TZID=UTC:20250318T180000
DTEND;TZID=UTC:20250318T193000
DTSTAMP:20260421T141253
CREATED:20250318T164441Z
LAST-MODIFIED:20250318T185106Z
UID:3362-1742320800-1742326200@trinitywhitesboro.com
SUMMARY:Lenten Bible Study Begins
DESCRIPTION:On Tuesday\, March 18th we will begin our Lenten Bible Study. We will be meeting every Tuesday during the Lenten season. The study series is called “The Easter Experience” and will be held in person from 6pm-7:30pm at the church. \nSign up online: https://trinitywhitesboro.com/small-groups/
URL:https://trinitywhitesboro.com/event/lenten-bible-study-begins-2/
LOCATION:Trinity UMC\, 8595 Westmorland Rd\, Whitesboro\, NY\, 13492\, United States
END:VEVENT
BEGIN:VEVENT
DTSTART;TZID=UTC:20250907T100000
DTEND;TZID=UTC:20250907T130000
DTSTAMP:20260421T141253
CREATED:20250905T203704Z
LAST-MODIFIED:20250905T203704Z
UID:3366-1757239200-1757250000@trinitywhitesboro.com
SUMMARY:Worship in the Park - Whitestown Park
DESCRIPTION:Large pavilion – 10 am service \nThis weekend instead of our usual worship\, we will be embracing the outdoors and heading to Whitestown Park on Gibson Rd! Please join us for worship\, followed by a potluck lunch\, fellowship and games! \nEveryone is welcome\, including youth and guests! Please bring your own dish to share as we partake in the potluck lunch.
URL:https://trinitywhitesboro.com/event/worship-in-the-park-whitestown-park-2/
LOCATION:5175 Gibson Rd\, Whitesboro NY\, 5175 Gibson Rd\, Whitesboro\, NY\, 13492\, United States
ATTACH;FMTTYPE=image/jpeg:https://trinitywhitesboro.com/wp-content/uploads/2025/09/Worship-in-the-park-2025.jpg
END:VEVENT
END:VCALENDAR