BEGIN:VCALENDAR
VERSION:2.0
PRODID:-//Trinity United Methodist Church - ECPv6.11.2//NONSGML v1.0//EN
CALSCALE:GREGORIAN
METHOD:PUBLISH
X-ORIGINAL-URL:https://trinitywhitesboro.com
X-WR-CALDESC:Events for Trinity United Methodist Church
REFRESH-INTERVAL;VALUE=DURATION:PT1H
X-Robots-Tag:noindex
X-PUBLISHED-TTL:PT1H
BEGIN:VTIMEZONE
TZID:UTC
BEGIN:STANDARD
TZOFFSETFROM:+0000
TZOFFSETTO:+0000
TZNAME:UTC
DTSTART:20240101T000000
END:STANDARD
END:VTIMEZONE
BEGIN:VEVENT
DTSTART;TZID=UTC:20241224T180000
DTEND;TZID=UTC:20241224T190000
DTSTAMP:20260423T100845
CREATED:20241218T220623Z
LAST-MODIFIED:20241218T221334Z
UID:3352-1735063200-1735066800@trinitywhitesboro.com
SUMMARY:Christmas Eve Worship & Candlelight Service - 6pm
DESCRIPTION:Come worship with us on Christmas eve as we celebrate the birth of our savior\, Jesus Christ! A joy to the world!
URL:https://trinitywhitesboro.com/event/christmas-eve-worship-candlelight-service-6pm/
LOCATION:Trinity UMC\, 8595 Westmorland Rd\, Whitesboro\, NY\, 13492\, United States
CATEGORIES:Events at Trinity
END:VEVENT
END:VCALENDAR