BEGIN:VCALENDAR
VERSION:2.0
PRODID:-//Trinity United Methodist Church - ECPv6.11.2//NONSGML v1.0//EN
CALSCALE:GREGORIAN
METHOD:PUBLISH
X-ORIGINAL-URL:https://trinitywhitesboro.com
X-WR-CALDESC:Events for Trinity United Methodist Church
REFRESH-INTERVAL;VALUE=DURATION:PT1H
X-Robots-Tag:noindex
X-PUBLISHED-TTL:PT1H
BEGIN:VTIMEZONE
TZID:UTC
BEGIN:STANDARD
TZOFFSETFROM:+0000
TZOFFSETTO:+0000
TZNAME:UTC
DTSTART:20240101T000000
END:STANDARD
END:VTIMEZONE
BEGIN:VEVENT
DTSTART;TZID=UTC:20241110T161500
DTEND;TZID=UTC:20241110T161500
DTSTAMP:20260421T114037
CREATED:20241030T201948Z
LAST-MODIFIED:20241030T201948Z
UID:3320-1731255300-1731255300@trinitywhitesboro.com
SUMMARY:Charge Conference
DESCRIPTION:Join us for the Charge Conference at Westmoreland UMC!
URL:https://trinitywhitesboro.com/event/charge-conference/
LOCATION:Westmoreland UMC\, 7286 W Main St\, Westmoreland\, 13490
END:VEVENT
END:VCALENDAR