BEGIN:VCALENDAR
VERSION:2.0
PRODID:-//Trinity United Methodist Church - ECPv6.11.2//NONSGML v1.0//EN
CALSCALE:GREGORIAN
METHOD:PUBLISH
X-WR-CALNAME:Trinity United Methodist Church
X-ORIGINAL-URL:https://trinitywhitesboro.com
X-WR-CALDESC:Events for Trinity United Methodist Church
REFRESH-INTERVAL;VALUE=DURATION:PT1H
X-Robots-Tag:noindex
X-PUBLISHED-TTL:PT1H
BEGIN:VTIMEZONE
TZID:UTC
BEGIN:STANDARD
TZOFFSETFROM:+0000
TZOFFSETTO:+0000
TZNAME:UTC
DTSTART:20240101T000000
END:STANDARD
END:VTIMEZONE
BEGIN:VEVENT
DTSTART;TZID=UTC:20241027T170000
DTEND;TZID=UTC:20241027T200000
DTSTAMP:20260421T125148
CREATED:20241023T154310Z
LAST-MODIFIED:20241023T154310Z
UID:3304-1730048400-1730059200@trinitywhitesboro.com
SUMMARY:Trick & Treat BLAST
DESCRIPTION:Join us for a spooktacular night of fun at the Trick & Treat BLAST!\nThis 𝗙𝗥𝗘𝗘 𝗳𝗮𝗺𝗶𝗹𝘆 𝗲𝘃𝗲𝗻𝘁 is open to all ages. Enjoy delicious pizza\, snacks\, and drinks while you experience the following:\n 𝗠𝗮𝗴𝗶𝗰 𝗦𝗵𝗼𝘄: Be amazed by Jim Okey’s incredible magic and comedy! 𝗛𝗮𝘂𝗻𝘁𝗲𝗱 𝗛𝗼𝘂𝘀𝗲: Get ready to be scared by the RaGE Youth Group’s spooky creation! 𝗖𝗿𝗮𝗳𝘁𝘀 𝗮𝗻𝗱 𝗚𝗮𝗺𝗲𝘀: Have a blast with fun activities for the whole family. 𝗖𝗼𝘀𝘁𝘂𝗺𝗲 𝗖𝗼𝗻𝘁𝗲𝘀𝘁: Show off your best costume and win prizes! 𝗧𝗥𝗘𝗔𝗧𝗦: Free pumpkin and goody bags to take home.\n\nDon’t miss out on this unforgettable night of fun! \n\nWhen: Sunday\, October 27th\, 5pm-8pmWhere: Trinity Church of the Mohawk Valley\, 8595 Westmoreland Rd\, Whitesboro
URL:https://trinitywhitesboro.com/event/trick-treat-blast/
LOCATION:Trinity UMC\, 8595 Westmorland Rd\, Whitesboro\, NY\, 13492\, United States
ATTACH;FMTTYPE=image/png:https://trinitywhitesboro.com/wp-content/uploads/2024/10/Copy-of-Orange-and-Black-Spooky-Illustrated-Halloween-Party-Event-Flyer.png
END:VEVENT
END:VCALENDAR