BEGIN:VCALENDAR
VERSION:2.0
PRODID:-//Trinity United Methodist Church - ECPv6.11.2//NONSGML v1.0//EN
CALSCALE:GREGORIAN
METHOD:PUBLISH
X-WR-CALNAME:Trinity United Methodist Church
X-ORIGINAL-URL:https://trinitywhitesboro.com
X-WR-CALDESC:Events for Trinity United Methodist Church
REFRESH-INTERVAL;VALUE=DURATION:PT1H
X-Robots-Tag:noindex
X-PUBLISHED-TTL:PT1H
BEGIN:VTIMEZONE
TZID:UTC
BEGIN:STANDARD
TZOFFSETFROM:+0000
TZOFFSETTO:+0000
TZNAME:UTC
DTSTART:20240101T000000
END:STANDARD
END:VTIMEZONE
BEGIN:VEVENT
DTSTART;TZID=UTC:20241024T170000
DTEND;TZID=UTC:20241024T180000
DTSTAMP:20260421T130504
CREATED:20241023T155605Z
LAST-MODIFIED:20241023T155605Z
UID:3310-1729789200-1729792800@trinitywhitesboro.com
SUMMARY:Walking in the Word - Sherrillbrook Park
DESCRIPTION:Sherrillbrook Park\, New Hartford. 5pm We will meet near the Gazebo and have a short devotional as we walk together\, discuss and get to know each other.
URL:https://trinitywhitesboro.com/event/walking-in-the-word-sherrillbrook-park/
LOCATION:Sherrillbrook Park\, Sherrillbrook Park\, New Hartford\, NY\, 13413\, United States
END:VEVENT
END:VCALENDAR