BEGIN:VCALENDAR
VERSION:2.0
PRODID:-//Trinity United Methodist Church - ECPv6.11.2//NONSGML v1.0//EN
CALSCALE:GREGORIAN
METHOD:PUBLISH
X-WR-CALNAME:Trinity United Methodist Church
X-ORIGINAL-URL:https://trinitywhitesboro.com
X-WR-CALDESC:Events for Trinity United Methodist Church
REFRESH-INTERVAL;VALUE=DURATION:PT1H
X-Robots-Tag:noindex
X-PUBLISHED-TTL:PT1H
BEGIN:VTIMEZONE
TZID:UTC
BEGIN:STANDARD
TZOFFSETFROM:+0000
TZOFFSETTO:+0000
TZNAME:UTC
DTSTART:20240101T000000
END:STANDARD
END:VTIMEZONE
BEGIN:VEVENT
DTSTART;TZID=UTC:20240714T100000
DTEND;TZID=UTC:20240714T110000
DTSTAMP:20260421T163121
CREATED:20240703T150249Z
LAST-MODIFIED:20240703T150249Z
UID:3276-1720951200-1720954800@trinitywhitesboro.com
SUMMARY:Chris Connor Leading Worship
DESCRIPTION:
URL:https://trinitywhitesboro.com/event/chris-connor-leading-worship/
LOCATION:NY
END:VEVENT
END:VCALENDAR