BEGIN:VCALENDAR
VERSION:2.0
PRODID:-//Trinity United Methodist Church - ECPv6.11.2//NONSGML v1.0//EN
CALSCALE:GREGORIAN
METHOD:PUBLISH
X-WR-CALNAME:Trinity United Methodist Church
X-ORIGINAL-URL:https://trinitywhitesboro.com
X-WR-CALDESC:Events for Trinity United Methodist Church
REFRESH-INTERVAL;VALUE=DURATION:PT1H
X-Robots-Tag:noindex
X-PUBLISHED-TTL:PT1H
BEGIN:VTIMEZONE
TZID:UTC
BEGIN:STANDARD
TZOFFSETFROM:+0000
TZOFFSETTO:+0000
TZNAME:UTC
DTSTART:20240101T000000
END:STANDARD
END:VTIMEZONE
BEGIN:VEVENT
DTSTART;TZID=UTC:20240613T183000
DTEND;TZID=UTC:20240613T193000
DTSTAMP:20260421T175758
CREATED:20240529T150810Z
LAST-MODIFIED:20240529T150810Z
UID:3252-1718303400-1718307000@trinitywhitesboro.com
SUMMARY:Bible Study
DESCRIPTION:Bible Study with Rev. Carol. Bring Your Bible
URL:https://trinitywhitesboro.com/event/bible-study-2/
LOCATION:NY
END:VEVENT
END:VCALENDAR