BEGIN:VCALENDAR
VERSION:2.0
PRODID:-//Trinity United Methodist Church - ECPv6.11.2//NONSGML v1.0//EN
CALSCALE:GREGORIAN
METHOD:PUBLISH
X-ORIGINAL-URL:https://trinitywhitesboro.com
X-WR-CALDESC:Events for Trinity United Methodist Church
REFRESH-INTERVAL;VALUE=DURATION:PT1H
X-Robots-Tag:noindex
X-PUBLISHED-TTL:PT1H
BEGIN:VTIMEZONE
TZID:UTC
BEGIN:STANDARD
TZOFFSETFROM:+0000
TZOFFSETTO:+0000
TZNAME:UTC
DTSTART:20240101T000000
END:STANDARD
END:VTIMEZONE
BEGIN:VEVENT
DTSTART;TZID=UTC:20240329T190000
DTEND;TZID=UTC:20240329T193000
DTSTAMP:20260421T223606
CREATED:20240302T164603Z
LAST-MODIFIED:20240302T164603Z
UID:3186-1711738800-1711740600@trinitywhitesboro.com
SUMMARY:Good Friday Worship
DESCRIPTION:Good Friday Worship\, 7-7:30 pm led by Pastor Abigail
URL:https://trinitywhitesboro.com/event/good-friday-worship-2/
LOCATION:NY
END:VEVENT
END:VCALENDAR