BEGIN:VCALENDAR
VERSION:2.0
PRODID:-//Trinity United Methodist Church - ECPv6.11.2//NONSGML v1.0//EN
CALSCALE:GREGORIAN
METHOD:PUBLISH
X-ORIGINAL-URL:https://trinitywhitesboro.com
X-WR-CALDESC:Events for Trinity United Methodist Church
REFRESH-INTERVAL;VALUE=DURATION:PT1H
X-Robots-Tag:noindex
X-PUBLISHED-TTL:PT1H
BEGIN:VTIMEZONE
TZID:UTC
BEGIN:STANDARD
TZOFFSETFROM:+0000
TZOFFSETTO:+0000
TZNAME:UTC
DTSTART:20230101T000000
END:STANDARD
END:VTIMEZONE
BEGIN:VEVENT
DTSTART;TZID=UTC:20231224T160000
DTEND;TZID=UTC:20231224T170000
DTSTAMP:20260422T030528
CREATED:20231130T164732Z
LAST-MODIFIED:20231130T164732Z
UID:3146-1703433600-1703437200@trinitywhitesboro.com
SUMMARY:Christmas Eve Worship - 4pm
DESCRIPTION:Come worship with us on Christmas eve 4pm
URL:https://trinitywhitesboro.com/event/christmas-eve-worship-4pm/
LOCATION:Trinity UMC\, 8595 Westmorland Rd\, Whitesboro\, NY\, 13492\, United States
END:VEVENT
END:VCALENDAR