BEGIN:VCALENDAR
VERSION:2.0
PRODID:-//Trinity United Methodist Church - ECPv6.11.2//NONSGML v1.0//EN
CALSCALE:GREGORIAN
METHOD:PUBLISH
X-ORIGINAL-URL:https://trinitywhitesboro.com
X-WR-CALDESC:Events for Trinity United Methodist Church
REFRESH-INTERVAL;VALUE=DURATION:PT1H
X-Robots-Tag:noindex
X-PUBLISHED-TTL:PT1H
BEGIN:VTIMEZONE
TZID:UTC
BEGIN:STANDARD
TZOFFSETFROM:+0000
TZOFFSETTO:+0000
TZNAME:UTC
DTSTART:20230101T000000
END:STANDARD
END:VTIMEZONE
BEGIN:VEVENT
DTSTART;TZID=UTC:20231216T110000
DTEND;TZID=UTC:20231216T120000
DTSTAMP:20260422T030635
CREATED:20231130T164511Z
LAST-MODIFIED:20231130T164511Z
UID:3142-1702724400-1702728000@trinitywhitesboro.com
SUMMARY:Walking in the Word - T.R. Proctor Park
DESCRIPTION:Walking in the Word – 11am @ T.R. Proctor Park 1254-1260 Culver Ave\, Utica. We will meet by the playground\, dress warm and be prepared to sing some Christmas carol. Also\, Christmas cookies and dog biscuits will be provided.
URL:https://trinitywhitesboro.com/event/walking-in-the-word-t-r-proctor-park/
LOCATION:NY
END:VEVENT
END:VCALENDAR