BEGIN:VCALENDAR
VERSION:2.0
PRODID:-//Trinity United Methodist Church - ECPv6.11.2//NONSGML v1.0//EN
CALSCALE:GREGORIAN
METHOD:PUBLISH
X-WR-CALNAME:Trinity United Methodist Church
X-ORIGINAL-URL:https://trinitywhitesboro.com
X-WR-CALDESC:Events for Trinity United Methodist Church
REFRESH-INTERVAL;VALUE=DURATION:PT1H
X-Robots-Tag:noindex
X-PUBLISHED-TTL:PT1H
BEGIN:VTIMEZONE
TZID:UTC
BEGIN:STANDARD
TZOFFSETFROM:+0000
TZOFFSETTO:+0000
TZNAME:UTC
DTSTART:20230101T000000
END:STANDARD
END:VTIMEZONE
BEGIN:VEVENT
DTSTART;TZID=UTC:20231126T110000
DTEND;TZID=UTC:20231126T130000
DTSTAMP:20260422T042737
CREATED:20231125T164648Z
LAST-MODIFIED:20231125T164653Z
UID:3132-1700996400-1701003600@trinitywhitesboro.com
SUMMARY:Church Cleaning and Christmas Decorating
DESCRIPTION:Join us as we decorate and clean the church for Christmas.
URL:https://trinitywhitesboro.com/event/church-cleaning-and-christmas-decorating/
LOCATION:Trinity UMC\, 8595 Westmorland Rd\, Whitesboro\, NY\, 13492\, United States
CATEGORIES:Events at Trinity
END:VEVENT
END:VCALENDAR