BEGIN:VCALENDAR
VERSION:2.0
PRODID:-//Trinity United Methodist Church - ECPv6.11.2//NONSGML v1.0//EN
CALSCALE:GREGORIAN
METHOD:PUBLISH
X-WR-CALNAME:Trinity United Methodist Church
X-ORIGINAL-URL:https://trinitywhitesboro.com
X-WR-CALDESC:Events for Trinity United Methodist Church
REFRESH-INTERVAL;VALUE=DURATION:PT1H
X-Robots-Tag:noindex
X-PUBLISHED-TTL:PT1H
BEGIN:VTIMEZONE
TZID:UTC
BEGIN:STANDARD
TZOFFSETFROM:+0000
TZOFFSETTO:+0000
TZNAME:UTC
DTSTART:20230101T000000
END:STANDARD
END:VTIMEZONE
BEGIN:VEVENT
DTSTART;VALUE=DATE:20231119
DTEND;VALUE=DATE:20231120
DTSTAMP:20260422T042738
CREATED:20231102T151449Z
LAST-MODIFIED:20231102T151449Z
UID:3124-1700352000-1700438399@trinitywhitesboro.com
SUMMARY:Pie Potluck & Game Night
DESCRIPTION:All ages are invited to bring a pie to share and your favorite board games.
URL:https://trinitywhitesboro.com/event/pie-potluck-game-night/
LOCATION:NY
CATEGORIES:Events at Trinity
END:VEVENT
END:VCALENDAR