BEGIN:VCALENDAR
VERSION:2.0
PRODID:-//Trinity United Methodist Church - ECPv6.11.2//NONSGML v1.0//EN
CALSCALE:GREGORIAN
METHOD:PUBLISH
X-WR-CALNAME:Trinity United Methodist Church
X-ORIGINAL-URL:https://trinitywhitesboro.com
X-WR-CALDESC:Events for Trinity United Methodist Church
REFRESH-INTERVAL;VALUE=DURATION:PT1H
X-Robots-Tag:noindex
X-PUBLISHED-TTL:PT1H
BEGIN:VTIMEZONE
TZID:UTC
BEGIN:STANDARD
TZOFFSETFROM:+0000
TZOFFSETTO:+0000
TZNAME:UTC
DTSTART:20230101T000000
END:STANDARD
END:VTIMEZONE
BEGIN:VEVENT
DTSTART;TZID=UTC:20231118T130000
DTEND;TZID=UTC:20231118T150000
DTSTAMP:20260422T042737
CREATED:20231102T151354Z
LAST-MODIFIED:20231102T151354Z
UID:3122-1700312400-1700319600@trinitywhitesboro.com
SUMMARY:Annual Charge Conference Business Meeting - Rome UMC 1-3pm
DESCRIPTION:
URL:https://trinitywhitesboro.com/event/annual-charge-conference-business-meeting-rome-umc-1-3pm/
LOCATION:NY
END:VEVENT
END:VCALENDAR