BEGIN:VCALENDAR
VERSION:2.0
PRODID:-//Trinity United Methodist Church - ECPv6.11.2//NONSGML v1.0//EN
CALSCALE:GREGORIAN
METHOD:PUBLISH
X-ORIGINAL-URL:https://trinitywhitesboro.com
X-WR-CALDESC:Events for Trinity United Methodist Church
REFRESH-INTERVAL;VALUE=DURATION:PT1H
X-Robots-Tag:noindex
X-PUBLISHED-TTL:PT1H
BEGIN:VTIMEZONE
TZID:UTC
BEGIN:STANDARD
TZOFFSETFROM:+0000
TZOFFSETTO:+0000
TZNAME:UTC
DTSTART:20230101T000000
END:STANDARD
END:VTIMEZONE
BEGIN:VEVENT
DTSTART;TZID=UTC:20231117T110000
DTEND;TZID=UTC:20231117T120000
DTSTAMP:20260422T042734
CREATED:20231130T164627Z
LAST-MODIFIED:20231130T164627Z
UID:3144-1700218800-1700222400@trinitywhitesboro.com
SUMMARY:Cookies & Carols Fun
DESCRIPTION:Cookies & Carols Fun following Worship\, bring Cookies to share\, Group Games & Song
URL:https://trinitywhitesboro.com/event/cookies-carols-fun/
LOCATION:Trinity UMC\, 8595 Westmorland Rd\, Whitesboro\, NY\, 13492\, United States
END:VEVENT
END:VCALENDAR