BEGIN:VCALENDAR
VERSION:2.0
PRODID:-//Trinity United Methodist Church - ECPv6.11.2//NONSGML v1.0//EN
CALSCALE:GREGORIAN
METHOD:PUBLISH
X-ORIGINAL-URL:https://trinitywhitesboro.com
X-WR-CALDESC:Events for Trinity United Methodist Church
REFRESH-INTERVAL;VALUE=DURATION:PT1H
X-Robots-Tag:noindex
X-PUBLISHED-TTL:PT1H
BEGIN:VTIMEZONE
TZID:UTC
BEGIN:STANDARD
TZOFFSETFROM:+0000
TZOFFSETTO:+0000
TZNAME:UTC
DTSTART:20230101T000000
END:STANDARD
END:VTIMEZONE
BEGIN:VEVENT
DTSTART;TZID=UTC:20231024T190000
DTEND;TZID=UTC:20231024T203000
DTSTAMP:20260422T055122
CREATED:20230928T151506Z
LAST-MODIFIED:20230928T151506Z
UID:3070-1698174000-1698179400@trinitywhitesboro.com
SUMMARY:Pinz Karaoke Night
DESCRIPTION:Karaoke Night at Pinz at Sangertown Mall All Adults fellowship! 7-8:30 pm
URL:https://trinitywhitesboro.com/event/pinz-karaoke-night-2/
LOCATION:NY
END:VEVENT
END:VCALENDAR