BEGIN:VCALENDAR
VERSION:2.0
PRODID:-//Trinity United Methodist Church - ECPv6.11.2//NONSGML v1.0//EN
CALSCALE:GREGORIAN
METHOD:PUBLISH
X-WR-CALNAME:Trinity United Methodist Church
X-ORIGINAL-URL:https://trinitywhitesboro.com
X-WR-CALDESC:Events for Trinity United Methodist Church
REFRESH-INTERVAL;VALUE=DURATION:PT1H
X-Robots-Tag:noindex
X-PUBLISHED-TTL:PT1H
BEGIN:VTIMEZONE
TZID:UTC
BEGIN:STANDARD
TZOFFSETFROM:+0000
TZOFFSETTO:+0000
TZNAME:UTC
DTSTART:20230101T000000
END:STANDARD
END:VTIMEZONE
BEGIN:VEVENT
DTSTART;TZID=UTC:20230827T110000
DTEND;TZID=UTC:20230827T120000
DTSTAMP:20260422T081158
CREATED:20230803T151404Z
LAST-MODIFIED:20230803T151418Z
UID:3055-1693134000-1693137600@trinitywhitesboro.com
SUMMARY:Church Clean Up Following Worship
DESCRIPTION:Help de-clutter\, clean and organize areas of the Church. Those who are familiar with a certain area – will work on those areas (ex. Praise Band/storage closet\, Pastor/Office) Those who don’t have a specific ministry area will help clean out the basement\, storage areas etc.
URL:https://trinitywhitesboro.com/event/church-clean-up-following-worship/
LOCATION:Trinity UMC\, 8595 Westmorland Rd\, Whitesboro\, NY\, 13492\, United States
END:VEVENT
END:VCALENDAR