BEGIN:VCALENDAR
VERSION:2.0
PRODID:-//Trinity United Methodist Church - ECPv6.11.2//NONSGML v1.0//EN
CALSCALE:GREGORIAN
METHOD:PUBLISH
X-ORIGINAL-URL:https://trinitywhitesboro.com
X-WR-CALDESC:Events for Trinity United Methodist Church
REFRESH-INTERVAL;VALUE=DURATION:PT1H
X-Robots-Tag:noindex
X-PUBLISHED-TTL:PT1H
BEGIN:VTIMEZONE
TZID:UTC
BEGIN:STANDARD
TZOFFSETFROM:+0000
TZOFFSETTO:+0000
TZNAME:UTC
DTSTART:20230101T000000
END:STANDARD
END:VTIMEZONE
BEGIN:VEVENT
DTSTART;VALUE=DATE:20230815
DTEND;VALUE=DATE:20230816
DTSTAMP:20260422T081300
CREATED:20230803T151216Z
LAST-MODIFIED:20230803T151216Z
UID:3053-1692057600-1692143999@trinitywhitesboro.com
SUMMARY:Karaoke Night at Pinz
DESCRIPTION:Karaoke Night at Pinz at Sangertown Mall All Adults Welcome! for Andy’s Birthday!
URL:https://trinitywhitesboro.com/event/karaoke-night-at-pinz/
LOCATION:NY
END:VEVENT
END:VCALENDAR