BEGIN:VCALENDAR
VERSION:2.0
PRODID:-//Trinity United Methodist Church - ECPv6.11.2//NONSGML v1.0//EN
CALSCALE:GREGORIAN
METHOD:PUBLISH
X-WR-CALNAME:Trinity United Methodist Church
X-ORIGINAL-URL:https://trinitywhitesboro.com
X-WR-CALDESC:Events for Trinity United Methodist Church
REFRESH-INTERVAL;VALUE=DURATION:PT1H
X-Robots-Tag:noindex
X-PUBLISHED-TTL:PT1H
BEGIN:VTIMEZONE
TZID:UTC
BEGIN:STANDARD
TZOFFSETFROM:+0000
TZOFFSETTO:+0000
TZNAME:UTC
DTSTART:20230101T000000
END:STANDARD
END:VTIMEZONE
BEGIN:VEVENT
DTSTART;TZID=UTC:20230623T180000
DTEND;TZID=UTC:20230623T190000
DTSTAMP:20260422T110552
CREATED:20230616T181440Z
LAST-MODIFIED:20230620T170437Z
UID:3031-1687543200-1687546800@trinitywhitesboro.com
SUMMARY:Trinity Walking Group
DESCRIPTION:The Trinity Walking Group of the Mohawk Valley will be meeting on Friday\, June 23rd at 6pm.  Please meet at the gazebo at the Sherrill Brook Park in New Hartford.  This will be more of a hike opposed to a leisurely stroll so be prepared.
URL:https://trinitywhitesboro.com/event/trinity-walking-group-2/
LOCATION:Sherrillbrook Park\, Sherrillbrook Park\, New Hartford\, NY\, 13413\, United States
END:VEVENT
END:VCALENDAR