BEGIN:VCALENDAR
VERSION:2.0
PRODID:-//Trinity United Methodist Church - ECPv6.11.2//NONSGML v1.0//EN
CALSCALE:GREGORIAN
METHOD:PUBLISH
X-WR-CALNAME:Trinity United Methodist Church
X-ORIGINAL-URL:https://trinitywhitesboro.com
X-WR-CALDESC:Events for Trinity United Methodist Church
REFRESH-INTERVAL;VALUE=DURATION:PT1H
X-Robots-Tag:noindex
X-PUBLISHED-TTL:PT1H
BEGIN:VTIMEZONE
TZID:UTC
BEGIN:STANDARD
TZOFFSETFROM:+0000
TZOFFSETTO:+0000
TZNAME:UTC
DTSTART:20230101T000000
END:STANDARD
END:VTIMEZONE
BEGIN:VEVENT
DTSTART;TZID=UTC:20230426T130000
DTEND;TZID=UTC:20230426T160000
DTSTAMP:20260422T133727
CREATED:20230422T173931Z
LAST-MODIFIED:20230422T173931Z
UID:2977-1682514000-1682524800@trinitywhitesboro.com
SUMMARY:Parsonage Clean-Up
DESCRIPTION:We would like to invite anyone who would like to help clean up the parsonage to join them in this effort.  With much thought\, prayer and consideration it has been decided to put the parsonage on the market for sale. A number of factors went into this decision and if you have any questions\, please contact Jeff or Pete. \nTimes are Wednesday\, April 26 from 1pm-4pm and Saturday\, April 29 from 1pm-4pm \nThe address of the parsonage is:  15 Chateau Drive\, Whitesboro \nFeel free to bring rakes\, cleaning rags and buckets and whatever else you think you or we might need.
URL:https://trinitywhitesboro.com/event/parsonage-clean-up/
LOCATION:NY
END:VEVENT
END:VCALENDAR