BEGIN:VCALENDAR
VERSION:2.0
PRODID:-//Trinity United Methodist Church - ECPv6.11.2//NONSGML v1.0//EN
CALSCALE:GREGORIAN
METHOD:PUBLISH
X-WR-CALNAME:Trinity United Methodist Church
X-ORIGINAL-URL:https://trinitywhitesboro.com
X-WR-CALDESC:Events for Trinity United Methodist Church
REFRESH-INTERVAL;VALUE=DURATION:PT1H
X-Robots-Tag:noindex
X-PUBLISHED-TTL:PT1H
BEGIN:VTIMEZONE
TZID:UTC
BEGIN:STANDARD
TZOFFSETFROM:+0000
TZOFFSETTO:+0000
TZNAME:UTC
DTSTART:20230101T000000
END:STANDARD
END:VTIMEZONE
BEGIN:VEVENT
DTSTART;TZID=UTC:20230221T180000
DTEND;TZID=UTC:20230221T200000
DTSTAMP:20260422T163335
CREATED:20230218T160445Z
LAST-MODIFIED:20230218T160445Z
UID:2918-1677002400-1677009600@trinitywhitesboro.com
SUMMARY:Vision Living Team Meeting
DESCRIPTION:For those on the Vision Living Team\, don’t forget that we have a meeting on Tuesday\, February 21 from 6-8pm.
URL:https://trinitywhitesboro.com/event/vision-living-team-meeting/
LOCATION:Trinity UMC\, 8595 Westmorland Rd\, Whitesboro\, NY\, 13492\, United States
END:VEVENT
END:VCALENDAR