BEGIN:VCALENDAR
VERSION:2.0
PRODID:-//Trinity United Methodist Church - ECPv6.11.2//NONSGML v1.0//EN
CALSCALE:GREGORIAN
METHOD:PUBLISH
X-WR-CALNAME:Trinity United Methodist Church
X-ORIGINAL-URL:https://trinitywhitesboro.com
X-WR-CALDESC:Events for Trinity United Methodist Church
REFRESH-INTERVAL;VALUE=DURATION:PT1H
X-Robots-Tag:noindex
X-PUBLISHED-TTL:PT1H
BEGIN:VTIMEZONE
TZID:UTC
BEGIN:STANDARD
TZOFFSETFROM:+0000
TZOFFSETTO:+0000
TZNAME:UTC
DTSTART:20230101T000000
END:STANDARD
END:VTIMEZONE
BEGIN:VEVENT
DTSTART;TZID=UTC:20230122T100000
DTEND;TZID=UTC:20230122T110000
DTSTAMP:20260422T174530
CREATED:20230114T211936Z
LAST-MODIFIED:20230119T191845Z
UID:2895-1674381600-1674385200@trinitywhitesboro.com
SUMMARY:Healing & Prayer Service
DESCRIPTION:Come join us for a healing and prayer service January 22\, 2023 at 10:00am
URL:https://trinitywhitesboro.com/event/healing-prayer-service/
LOCATION:Trinity UMC\, 8595 Westmorland Rd\, Whitesboro\, NY\, 13492\, United States
CATEGORIES:Events at Trinity
ATTACH;FMTTYPE=image/jpeg:https://trinitywhitesboro.com/wp-content/uploads/2023/01/326551950_1005273460646528_5403955192239110753_n.jpg
END:VEVENT
END:VCALENDAR