BEGIN:VCALENDAR
VERSION:2.0
PRODID:-//Trinity United Methodist Church - ECPv6.11.2//NONSGML v1.0//EN
CALSCALE:GREGORIAN
METHOD:PUBLISH
X-WR-CALNAME:Trinity United Methodist Church
X-ORIGINAL-URL:https://trinitywhitesboro.com
X-WR-CALDESC:Events for Trinity United Methodist Church
REFRESH-INTERVAL;VALUE=DURATION:PT1H
X-Robots-Tag:noindex
X-PUBLISHED-TTL:PT1H
BEGIN:VTIMEZONE
TZID:UTC
BEGIN:STANDARD
TZOFFSETFROM:+0000
TZOFFSETTO:+0000
TZNAME:UTC
DTSTART:20230101T000000
END:STANDARD
END:VTIMEZONE
BEGIN:VEVENT
DTSTART;TZID=UTC:20230107T130000
DTEND;TZID=UTC:20230107T150000
DTSTAMP:20260422T174522
CREATED:20221228T191509Z
LAST-MODIFIED:20221228T191509Z
UID:2885-1673096400-1673103600@trinitywhitesboro.com
SUMMARY:Walking In The Word
DESCRIPTION:On Saturday\, January 7th we will be starting a new study along with exercise!  Walking In The Word will begin at 1pm at:  The Rayhill Memorial Trail access parking lot on Middle Settlement Road in New Hartford (next to OHM BOCES\, across Stewart’s).  We will start each walk with a prayer and a brief scripture reading from the Book of James.  The mission of this group is to fellowship with one another while getting a positive boost from scripture\, outdoor exercise\, fresh air\, and opportunities to explore beautiful walking paths in the Mohawk Valley.  Dress in warm layers\, prepared for the outdoor elements.  Wear boots/walking shoes that are comfortable\, gloves\, a hat or hood\, and bring water.  We will walk one mile out and one mile back while supporting each other all the way.  We plan to lead two walks a month at a variety of area trails.\n“As you therefore have received Christ Jesus the Lord\, so walk in Him\, rooted and built up in Him and established in the faith\, as you have been taught\, abounding in it with thanksgiving.” Colossians 2:6-7 (NKJV)
URL:https://trinitywhitesboro.com/event/walking-in-the-word/
LOCATION:NY
END:VEVENT
END:VCALENDAR