BEGIN:VCALENDAR
VERSION:2.0
PRODID:-//Trinity United Methodist Church - ECPv6.11.2//NONSGML v1.0//EN
CALSCALE:GREGORIAN
METHOD:PUBLISH
X-ORIGINAL-URL:https://trinitywhitesboro.com
X-WR-CALDESC:Events for Trinity United Methodist Church
REFRESH-INTERVAL;VALUE=DURATION:PT1H
X-Robots-Tag:noindex
X-PUBLISHED-TTL:PT1H
BEGIN:VTIMEZONE
TZID:UTC
BEGIN:STANDARD
TZOFFSETFROM:+0000
TZOFFSETTO:+0000
TZNAME:UTC
DTSTART:20220101T000000
END:STANDARD
END:VTIMEZONE
BEGIN:VEVENT
DTSTART;TZID=UTC:20221206T180000
DTEND;TZID=UTC:20221206T193000
DTSTAMP:20260422T185412
CREATED:20221203T191355Z
LAST-MODIFIED:20221203T191355Z
UID:2873-1670349600-1670355000@trinitywhitesboro.com
SUMMARY:Spiritual Gift Survey & White Elephant Gift Exchange
DESCRIPTION:We invite you to come to gather in fellowship with your fellow Trinitarians and find out what your spiritual gifts are as Pastor Abigail leads us through a Spiritual Gift Survey.  We will also be having a “white elephant” gift exchange so please bring a small\, gift-wrapped item.  Come and join us for this fun evening.
URL:https://trinitywhitesboro.com/event/spiritual-gift-survey-white-elephant-gift-exchange/
LOCATION:Trinity UMC\, 8595 Westmorland Rd\, Whitesboro\, NY\, 13492\, United States
CATEGORIES:Events at Trinity
END:VEVENT
END:VCALENDAR