BEGIN:VCALENDAR
VERSION:2.0
PRODID:-//Trinity United Methodist Church - ECPv6.11.2//NONSGML v1.0//EN
CALSCALE:GREGORIAN
METHOD:PUBLISH
X-WR-CALNAME:Trinity United Methodist Church
X-ORIGINAL-URL:https://trinitywhitesboro.com
X-WR-CALDESC:Events for Trinity United Methodist Church
REFRESH-INTERVAL;VALUE=DURATION:PT1H
X-Robots-Tag:noindex
X-PUBLISHED-TTL:PT1H
BEGIN:VTIMEZONE
TZID:UTC
BEGIN:STANDARD
TZOFFSETFROM:+0000
TZOFFSETTO:+0000
TZNAME:UTC
DTSTART:20220101T000000
END:STANDARD
END:VTIMEZONE
BEGIN:VEVENT
DTSTART;TZID=UTC:20221204T100000
DTEND;TZID=UTC:20221204T110000
DTSTAMP:20260422T185248
CREATED:20221203T190437Z
LAST-MODIFIED:20221203T190437Z
UID:2860-1670148000-1670151600@trinitywhitesboro.com
SUMMARY:Second Advent - Peace
DESCRIPTION:Sunday\, December 4th is the second Sunday of Advent and is represented by the candle of PEACE.  Peace is what we as followers strive for.  Jesus speaks many times about peace.  One particular time is in the book of John in chapter 14 verse 27.  “Peace I leave with you; my peace I give you.  I do not give to you as the world gives.  Do not let your hearts be troubled and do not be afraid.” (NIV)
URL:https://trinitywhitesboro.com/event/second-advent-peace/
LOCATION:Trinity UMC\, 8595 Westmorland Rd\, Whitesboro\, NY\, 13492\, United States
CATEGORIES:Events at Trinity
END:VEVENT
END:VCALENDAR