BEGIN:VCALENDAR
VERSION:2.0
PRODID:-//Trinity United Methodist Church - ECPv6.11.2//NONSGML v1.0//EN
CALSCALE:GREGORIAN
METHOD:PUBLISH
X-ORIGINAL-URL:https://trinitywhitesboro.com
X-WR-CALDESC:Events for Trinity United Methodist Church
REFRESH-INTERVAL;VALUE=DURATION:PT1H
X-Robots-Tag:noindex
X-PUBLISHED-TTL:PT1H
BEGIN:VTIMEZONE
TZID:UTC
BEGIN:STANDARD
TZOFFSETFROM:+0000
TZOFFSETTO:+0000
TZNAME:UTC
DTSTART:20220101T000000
END:STANDARD
END:VTIMEZONE
BEGIN:VEVENT
DTSTART;TZID=UTC:20220424T100000
DTEND;TZID=UTC:20220424T110000
DTSTAMP:20260423T054543
CREATED:20220416T184938Z
LAST-MODIFIED:20220416T184938Z
UID:2824-1650794400-1650798000@trinitywhitesboro.com
SUMMARY:Agape Love Feast
DESCRIPTION:Sunday\, April 24th at 10:00am our service will look a little different as we will be holding service in the Gathering Room.\nThe theme of this service is Agape Love Feast and with that being said we will be holding a cover-dish style brunch at that time. Please bring a dish to pass as well as your own service ware (plates\, utensils\, etc.).\nThis is also Pastor Cory’s last Sunday with us\, so I hope everyone will come to celebrate Pastor Cory’s ministry and time with us.
URL:https://trinitywhitesboro.com/event/agape-love-feast/
LOCATION:Trinity UMC\, 8595 Westmorland Rd\, Whitesboro\, NY\, 13492\, United States
CATEGORIES:Events at Trinity
ATTACH;FMTTYPE=image/jpeg:https://trinitywhitesboro.com/wp-content/uploads/2022/04/agape.jpg
END:VEVENT
END:VCALENDAR