BEGIN:VCALENDAR
VERSION:2.0
PRODID:-//Trinity United Methodist Church - ECPv6.11.2//NONSGML v1.0//EN
CALSCALE:GREGORIAN
METHOD:PUBLISH
X-WR-CALNAME:Trinity United Methodist Church
X-ORIGINAL-URL:https://trinitywhitesboro.com
X-WR-CALDESC:Events for Trinity United Methodist Church
REFRESH-INTERVAL;VALUE=DURATION:PT1H
X-Robots-Tag:noindex
X-PUBLISHED-TTL:PT1H
BEGIN:VTIMEZONE
TZID:UTC
BEGIN:STANDARD
TZOFFSETFROM:+0000
TZOFFSETTO:+0000
TZNAME:UTC
DTSTART:20220101T000000
END:STANDARD
END:VTIMEZONE
BEGIN:VEVENT
DTSTART;TZID=UTC:20220420T180000
DTEND;TZID=UTC:20220420T200000
DTSTAMP:20260423T054332
CREATED:20220416T190229Z
LAST-MODIFIED:20220416T190229Z
UID:2829-1650477600-1650484800@trinitywhitesboro.com
SUMMARY:Congregational Transition Meeting
DESCRIPTION:Wednesday\, April 20th at 6:00pm we will be holding an important meeting with the district transition team as we figure out how to move forward as a church.\nFor all those who attend Trinity this meeting is very important and we want to make sure that everyone is aware of what the future may be. Please plan on attending. Our hope and prayer is that everyone comes with open hearts and minds.
URL:https://trinitywhitesboro.com/event/congregational-transition-meeting/
LOCATION:Trinity UMC\, 8595 Westmorland Rd\, Whitesboro\, NY\, 13492\, United States
ATTACH;FMTTYPE=image/jpeg:https://trinitywhitesboro.com/wp-content/uploads/2022/04/trinity.jpg
END:VEVENT
END:VCALENDAR